BEGIN:VCALENDAR
VERSION:2.0
PRODID:-//Thiago Jhonathan #TJ - Site Oficial - ECPv6.1.2.2//NONSGML v1.0//EN
CALSCALE:GREGORIAN
METHOD:PUBLISH
X-ORIGINAL-URL:https://www.thiagojhonathan.com.br
X-WR-CALDESC:Eventos para Thiago Jhonathan #TJ - Site Oficial
REFRESH-INTERVAL;VALUE=DURATION:PT1H
X-Robots-Tag:noindex
X-PUBLISHED-TTL:PT1H
BEGIN:VTIMEZONE
TZID:America/Sao_Paulo
BEGIN:STANDARD
TZOFFSETFROM:-0300
TZOFFSETTO:-0300
TZNAME:-03
DTSTART:20230101T000000
END:STANDARD
END:VTIMEZONE
BEGIN:VEVENT
DTSTART;TZID=America/Sao_Paulo:20230203T220000
DTEND;TZID=America/Sao_Paulo:20230203T233000
DTSTAMP:20260421T232926
CREATED:20230127T185551Z
LAST-MODIFIED:20230127T185551Z
UID:4176-1675461600-1675467000@www.thiagojhonathan.com.br
SUMMARY:JATAÍ-GO
DESCRIPTION:
URL:https://www.thiagojhonathan.com.br/event/jatai-go-2/
LOCATION:Clube Rei do Gado
CATEGORIES:Agenda Shows
END:VEVENT
BEGIN:VEVENT
DTSTART;TZID=America/Sao_Paulo:20230204T080000
DTEND;TZID=America/Sao_Paulo:20230204T170000
DTSTAMP:20260421T232926
CREATED:20230110T194804Z
LAST-MODIFIED:20230110T194804Z
UID:4156-1675497600-1675530000@www.thiagojhonathan.com.br
SUMMARY:RIO VERDE-GO
DESCRIPTION:
URL:https://www.thiagojhonathan.com.br/event/rio-verde-go/
LOCATION:Exclusive
CATEGORIES:Agenda Shows
END:VEVENT
BEGIN:VEVENT
DTSTART;TZID=America/Sao_Paulo:20230205T220000
DTEND;TZID=America/Sao_Paulo:20230205T233000
DTSTAMP:20260421T232926
CREATED:20221215T185139Z
LAST-MODIFIED:20221215T185139Z
UID:4090-1675634400-1675639800@www.thiagojhonathan.com.br
SUMMARY:ANÁPOLIS-GO
DESCRIPTION:
URL:https://www.thiagojhonathan.com.br/event/anapolis-go-7/
LOCATION:Parque de Exposiçoes
CATEGORIES:Agenda Shows
END:VEVENT
BEGIN:VEVENT
DTSTART;TZID=America/Sao_Paulo:20230210T220000
DTEND;TZID=America/Sao_Paulo:20230210T233000
DTSTAMP:20260421T232926
CREATED:20230123T193959Z
LAST-MODIFIED:20230123T193959Z
UID:4164-1676066400-1676071800@www.thiagojhonathan.com.br
SUMMARY:GOIANIRA-GO
DESCRIPTION:
URL:https://www.thiagojhonathan.com.br/event/goianira-go/
LOCATION:Recanto do Banho
CATEGORIES:Agenda Shows
END:VEVENT
BEGIN:VEVENT
DTSTART;TZID=America/Sao_Paulo:20230211T220000
DTEND;TZID=America/Sao_Paulo:20230211T233000
DTSTAMP:20260421T232926
CREATED:20230123T194131Z
LAST-MODIFIED:20230123T200101Z
UID:4167-1676152800-1676158200@www.thiagojhonathan.com.br
SUMMARY:PALMEIRAS DE GOIÁS-GO
DESCRIPTION:
URL:https://www.thiagojhonathan.com.br/event/palmeiras-de-goias-go-2/
LOCATION:Parque de Exposições
CATEGORIES:Agenda Shows
END:VEVENT
BEGIN:VEVENT
DTSTART;TZID=America/Sao_Paulo:20230212T193000
DTEND;TZID=America/Sao_Paulo:20230212T210000
DTSTAMP:20260421T232926
CREATED:20230123T194409Z
LAST-MODIFIED:20230123T200347Z
UID:4169-1676230200-1676235600@www.thiagojhonathan.com.br
SUMMARY:APARECIDA DE GOIÂNIA-GO
DESCRIPTION:
URL:https://www.thiagojhonathan.com.br/event/aparecida-de-goiania-go-6/
LOCATION:Bar com Peixe Karaokê
CATEGORIES:Agenda Shows
END:VEVENT
BEGIN:VEVENT
DTSTART;TZID=America/Sao_Paulo:20230212T220000
DTEND;TZID=America/Sao_Paulo:20230212T233000
DTSTAMP:20260421T232926
CREATED:20230123T194530Z
LAST-MODIFIED:20230123T194530Z
UID:4172-1676239200-1676244600@www.thiagojhonathan.com.br
SUMMARY:GOIÂNIA-GO
DESCRIPTION:
URL:https://www.thiagojhonathan.com.br/event/goiania-go-23/
LOCATION:Bahamas Bar
CATEGORIES:Agenda Shows
END:VEVENT
BEGIN:VEVENT
DTSTART;TZID=America/Sao_Paulo:20230217T220000
DTEND;TZID=America/Sao_Paulo:20230217T233000
DTSTAMP:20260421T232926
CREATED:20230207T184827Z
LAST-MODIFIED:20230207T185433Z
UID:4181-1676671200-1676676600@www.thiagojhonathan.com.br
SUMMARY:NÚCLEO BANDEIRANTE-DF
DESCRIPTION:
URL:https://www.thiagojhonathan.com.br/event/nucleo-bandeirantes-df/
LOCATION:Texxas
CATEGORIES:Agenda Shows
END:VEVENT
BEGIN:VEVENT
DTSTART;TZID=America/Sao_Paulo:20230218T210000
DTEND;TZID=America/Sao_Paulo:20230218T220000
DTSTAMP:20260421T232926
CREATED:20230207T184707Z
LAST-MODIFIED:20230207T184707Z
UID:4179-1676754000-1676757600@www.thiagojhonathan.com.br
SUMMARY:PARANOÁ-DF
DESCRIPTION:
URL:https://www.thiagojhonathan.com.br/event/paranoa-df-7/
LOCATION:No Limite
CATEGORIES:Agenda Shows
END:VEVENT
BEGIN:VEVENT
DTSTART;TZID=America/Sao_Paulo:20230218T223000
DTEND;TZID=America/Sao_Paulo:20230218T233000
DTSTAMP:20260421T232926
CREATED:20230207T185049Z
LAST-MODIFIED:20230207T185049Z
UID:4183-1676759400-1676763000@www.thiagojhonathan.com.br
SUMMARY:ÁGUAS LINDAS-GO
DESCRIPTION:
URL:https://www.thiagojhonathan.com.br/event/aguas-lindas-go-3/
LOCATION:Estacionamento Kaen Gastrobar
CATEGORIES:Agenda Shows
END:VEVENT
BEGIN:VEVENT
DTSTART;TZID=America/Sao_Paulo:20230219T220000
DTEND;TZID=America/Sao_Paulo:20230219T233000
DTSTAMP:20260421T232926
CREATED:20230104T193630Z
LAST-MODIFIED:20230207T185641Z
UID:4124-1676844000-1676849400@www.thiagojhonathan.com.br
SUMMARY:LAGOA DA CONFUSÃO-TO
DESCRIPTION:
URL:https://www.thiagojhonathan.com.br/event/lagoa-da-confusao-to-2/
LOCATION:Praça Pública
CATEGORIES:Agenda Shows
END:VEVENT
BEGIN:VEVENT
DTSTART;TZID=America/Sao_Paulo:20230220T220000
DTEND;TZID=America/Sao_Paulo:20230220T233000
DTSTAMP:20260421T232926
CREATED:20230110T201703Z
LAST-MODIFIED:20230110T201703Z
UID:4159-1676930400-1676935800@www.thiagojhonathan.com.br
SUMMARY:ALTO HORIZONTE-GO
DESCRIPTION:
URL:https://www.thiagojhonathan.com.br/event/alto-horizonte-go/
LOCATION:Praça Pública
CATEGORIES:Agenda Shows
END:VEVENT
BEGIN:VEVENT
DTSTART;TZID=America/Sao_Paulo:20230224T080000
DTEND;TZID=America/Sao_Paulo:20230224T170000
DTSTAMP:20260421T232926
CREATED:20230207T185802Z
LAST-MODIFIED:20230207T185802Z
UID:4187-1677225600-1677258000@www.thiagojhonathan.com.br
SUMMARY:RECESSO
DESCRIPTION:
URL:https://www.thiagojhonathan.com.br/event/recesso/
CATEGORIES:Agenda Shows
END:VEVENT
BEGIN:VEVENT
DTSTART;TZID=America/Sao_Paulo:20230225T080000
DTEND;TZID=America/Sao_Paulo:20230225T170000
DTSTAMP:20260421T232926
CREATED:20230207T190430Z
LAST-MODIFIED:20230207T190430Z
UID:4189-1677312000-1677344400@www.thiagojhonathan.com.br
SUMMARY:RECESSO
DESCRIPTION:
URL:https://www.thiagojhonathan.com.br/event/recesso-2/
CATEGORIES:Agenda Shows
END:VEVENT
BEGIN:VEVENT
DTSTART;TZID=America/Sao_Paulo:20230226T080000
DTEND;TZID=America/Sao_Paulo:20230226T170000
DTSTAMP:20260421T232926
CREATED:20230207T190525Z
LAST-MODIFIED:20230207T190525Z
UID:4191-1677398400-1677430800@www.thiagojhonathan.com.br
SUMMARY:RECESSO
DESCRIPTION:
URL:https://www.thiagojhonathan.com.br/event/recesso-3/
CATEGORIES:Agenda Shows
END:VEVENT
BEGIN:VEVENT
DTSTART;TZID=America/Sao_Paulo:20230303T220000
DTEND;TZID=America/Sao_Paulo:20230303T233000
DTSTAMP:20260421T232926
CREATED:20230207T200654Z
LAST-MODIFIED:20230207T200654Z
UID:4193-1677880800-1677886200@www.thiagojhonathan.com.br
SUMMARY:FORMOSA DO RIO PRETO-BA
DESCRIPTION:
URL:https://www.thiagojhonathan.com.br/event/formosa-do-rio-preto-ba-2/
LOCATION:Clube Do Nitor – Na Intans
CATEGORIES:Agenda Shows
END:VEVENT
BEGIN:VEVENT
DTSTART;TZID=America/Sao_Paulo:20230304T223000
DTEND;TZID=America/Sao_Paulo:20230304T233000
DTSTAMP:20260421T232926
CREATED:20230207T200932Z
LAST-MODIFIED:20230207T201119Z
UID:4195-1677969000-1677972600@www.thiagojhonathan.com.br
SUMMARY:LUIZ EDUARDO MAGALHÃES-BA
DESCRIPTION:
URL:https://www.thiagojhonathan.com.br/event/luiz-eduardo-magalhaes-ba/
LOCATION:Estação Gê
CATEGORIES:Agenda Shows
END:VEVENT
BEGIN:VEVENT
DTSTART;TZID=America/Sao_Paulo:20230310T210000
DTEND;TZID=America/Sao_Paulo:20230310T223000
DTSTAMP:20260421T232926
CREATED:20230222T201742Z
LAST-MODIFIED:20230222T201742Z
UID:4198-1678482000-1678487400@www.thiagojhonathan.com.br
SUMMARY:PRESIDENTE OLEGÁRIO-MG
DESCRIPTION:
URL:https://www.thiagojhonathan.com.br/event/presidente-olegario-mg-2/
LOCATION:Aabpo (Antigo Clube Olegarence)
CATEGORIES:Agenda Shows
END:VEVENT
BEGIN:VEVENT
DTSTART;TZID=America/Sao_Paulo:20230310T223000
DTEND;TZID=America/Sao_Paulo:20230310T233000
DTSTAMP:20260421T232926
CREATED:20230222T201901Z
LAST-MODIFIED:20230222T201901Z
UID:4201-1678487400-1678491000@www.thiagojhonathan.com.br
SUMMARY:PATOS DE MINAS-MG
DESCRIPTION:
URL:https://www.thiagojhonathan.com.br/event/patos-de-minas-mg-4/
LOCATION:Costelão Churrascaria
CATEGORIES:Agenda Shows
END:VEVENT
BEGIN:VEVENT
DTSTART;TZID=America/Sao_Paulo:20230311T220000
DTEND;TZID=America/Sao_Paulo:20230311T233000
DTSTAMP:20260421T232926
CREATED:20230222T203422Z
LAST-MODIFIED:20230222T203422Z
UID:4218-1678572000-1678577400@www.thiagojhonathan.com.br
SUMMARY:NOVA SERRANA-MG
DESCRIPTION:
URL:https://www.thiagojhonathan.com.br/event/nova-serrana-mg/
LOCATION:Centro de Convenções
CATEGORIES:Agenda Shows
END:VEVENT
BEGIN:VEVENT
DTSTART;TZID=America/Sao_Paulo:20230312T220000
DTEND;TZID=America/Sao_Paulo:20230312T233000
DTSTAMP:20260421T232926
CREATED:20230223T150006Z
LAST-MODIFIED:20230223T150006Z
UID:4221-1678658400-1678663800@www.thiagojhonathan.com.br
SUMMARY:MONTES CLAROS-MG
DESCRIPTION:
URL:https://www.thiagojhonathan.com.br/event/montes-claros-mg-4/
LOCATION:Fazendão shows
CATEGORIES:Agenda Shows
END:VEVENT
BEGIN:VEVENT
DTSTART;TZID=America/Sao_Paulo:20230317T220000
DTEND;TZID=America/Sao_Paulo:20230317T233000
DTSTAMP:20260421T232926
CREATED:20230228T192251Z
LAST-MODIFIED:20230228T192251Z
UID:4224-1679090400-1679095800@www.thiagojhonathan.com.br
SUMMARY:ANÁPOLIS-GO
DESCRIPTION:
URL:https://www.thiagojhonathan.com.br/event/anapolis-go-8/
LOCATION:Homer Chopperia
CATEGORIES:Agenda Shows
END:VEVENT
BEGIN:VEVENT
DTSTART;TZID=America/Sao_Paulo:20230318T210000
DTEND;TZID=America/Sao_Paulo:20230318T223000
DTSTAMP:20260421T232926
CREATED:20230303T164350Z
LAST-MODIFIED:20230303T165002Z
UID:4231-1679173200-1679178600@www.thiagojhonathan.com.br
SUMMARY:SÃO SEBASTIÃO-DF
DESCRIPTION:
URL:https://www.thiagojhonathan.com.br/event/sao-sebastiao-df-6/
LOCATION:Cactus Beer
CATEGORIES:Agenda Shows
END:VEVENT
BEGIN:VEVENT
DTSTART;TZID=America/Sao_Paulo:20230318T223000
DTEND;TZID=America/Sao_Paulo:20230318T233000
DTSTAMP:20260421T232926
CREATED:20230303T164700Z
LAST-MODIFIED:20230303T164846Z
UID:4233-1679178600-1679182200@www.thiagojhonathan.com.br
SUMMARY:GAMA-DF
DESCRIPTION:
URL:https://www.thiagojhonathan.com.br/event/gama-df-3/
LOCATION:Na Fazenda
CATEGORIES:Agenda Shows
END:VEVENT
BEGIN:VEVENT
DTSTART;TZID=America/Sao_Paulo:20230324T210000
DTEND;TZID=America/Sao_Paulo:20230324T220000
DTSTAMP:20260421T232926
CREATED:20230222T202450Z
LAST-MODIFIED:20230222T202450Z
UID:4206-1679691600-1679695200@www.thiagojhonathan.com.br
SUMMARY:FRANCO DA ROCHA-SP
DESCRIPTION:
URL:https://www.thiagojhonathan.com.br/event/franco-da-rocha-sp-3/
LOCATION:Serra Talhada
CATEGORIES:Agenda Shows
END:VEVENT
BEGIN:VEVENT
DTSTART;TZID=America/Sao_Paulo:20230324T220000
DTEND;TZID=America/Sao_Paulo:20230324T233000
DTSTAMP:20260421T232926
CREATED:20230222T202636Z
LAST-MODIFIED:20230222T202636Z
UID:4209-1679695200-1679700600@www.thiagojhonathan.com.br
SUMMARY:VILA ALPINA-SP
DESCRIPTION:
URL:https://www.thiagojhonathan.com.br/event/vila-alpina-sp/
LOCATION:Brasil Danças
CATEGORIES:Agenda Shows
END:VEVENT
BEGIN:VEVENT
DTSTART;TZID=America/Sao_Paulo:20230325T210000
DTEND;TZID=America/Sao_Paulo:20230325T220000
DTSTAMP:20260421T232926
CREATED:20230222T202256Z
LAST-MODIFIED:20230222T202256Z
UID:4204-1679778000-1679781600@www.thiagojhonathan.com.br
SUMMARY:TIETÊ-SP
DESCRIPTION:
URL:https://www.thiagojhonathan.com.br/event/tiete-sp-4/
LOCATION:Espaço Foresto Eventos
CATEGORIES:Agenda Shows
END:VEVENT
BEGIN:VEVENT
DTSTART;TZID=America/Sao_Paulo:20230325T223000
DTEND;TZID=America/Sao_Paulo:20230325T233000
DTSTAMP:20260421T232926
CREATED:20230222T203011Z
LAST-MODIFIED:20230306T193808Z
UID:4216-1679783400-1679787000@www.thiagojhonathan.com.br
SUMMARY:CAMPINAS-SP
DESCRIPTION:
URL:https://www.thiagojhonathan.com.br/event/sao-paulo-sp-35/
LOCATION:Chão Brasil
CATEGORIES:Agenda Shows
END:VEVENT
BEGIN:VEVENT
DTSTART;TZID=America/Sao_Paulo:20230326T200000
DTEND;TZID=America/Sao_Paulo:20230326T213000
DTSTAMP:20260421T232926
CREATED:20230222T202834Z
LAST-MODIFIED:20230228T220930Z
UID:4214-1679860800-1679866200@www.thiagojhonathan.com.br
SUMMARY:BARUERI-SP
DESCRIPTION:
URL:https://www.thiagojhonathan.com.br/event/sao-paulo-sp-34/
LOCATION:Rancho do Silvão
CATEGORIES:Agenda Shows
END:VEVENT
BEGIN:VEVENT
DTSTART;TZID=America/Sao_Paulo:20230326T210000
DTEND;TZID=America/Sao_Paulo:20230326T220000
DTSTAMP:20260421T232926
CREATED:20230222T202747Z
LAST-MODIFIED:20230224T203004Z
UID:4212-1679864400-1679868000@www.thiagojhonathan.com.br
SUMMARY:CAMPO LIMPO-SP
DESCRIPTION:
URL:https://www.thiagojhonathan.com.br/event/sao-paulo-sp-33/
LOCATION:Tropical
CATEGORIES:Agenda Shows
END:VEVENT
END:VCALENDAR