BEGIN:VCALENDAR
VERSION:2.0
PRODID:-//Thiago Jhonathan #TJ - Site Oficial - ECPv6.1.2.2//NONSGML v1.0//EN
CALSCALE:GREGORIAN
METHOD:PUBLISH
X-ORIGINAL-URL:https://www.thiagojhonathan.com.br
X-WR-CALDESC:Eventos para Thiago Jhonathan #TJ - Site Oficial
REFRESH-INTERVAL;VALUE=DURATION:PT1H
X-Robots-Tag:noindex
X-PUBLISHED-TTL:PT1H
BEGIN:VTIMEZONE
TZID:America/Sao_Paulo
BEGIN:STANDARD
TZOFFSETFROM:-0300
TZOFFSETTO:-0300
TZNAME:-03
DTSTART:20220101T000000
END:STANDARD
END:VTIMEZONE
BEGIN:VEVENT
DTSTART;TZID=America/Sao_Paulo:20221022T210000
DTEND;TZID=America/Sao_Paulo:20221022T220000
DTSTAMP:20260422T054949
CREATED:20220909T134827Z
LAST-MODIFIED:20220909T134827Z
UID:3907-1666472400-1666476000@www.thiagojhonathan.com.br
SUMMARY:BARUERI-SP
DESCRIPTION:
URL:https://www.thiagojhonathan.com.br/event/barueri-sp-5/
LOCATION:Terraço
CATEGORIES:Agenda Shows
END:VEVENT
BEGIN:VEVENT
DTSTART;TZID=America/Sao_Paulo:20221022T223000
DTEND;TZID=America/Sao_Paulo:20221022T233000
DTSTAMP:20260422T054949
CREATED:20220914T171543Z
LAST-MODIFIED:20220914T171543Z
UID:3923-1666477800-1666481400@www.thiagojhonathan.com.br
SUMMARY:GUARAPIRANGA-SP
DESCRIPTION:
URL:https://www.thiagojhonathan.com.br/event/guarapiranga-sp-6/
LOCATION:Guarapirão Dance
CATEGORIES:Agenda Shows
END:VEVENT
BEGIN:VEVENT
DTSTART;TZID=America/Sao_Paulo:20221023T180000
DTEND;TZID=America/Sao_Paulo:20221023T200000
DTSTAMP:20260422T054949
CREATED:20220909T142157Z
LAST-MODIFIED:20221017T150135Z
UID:3921-1666548000-1666555200@www.thiagojhonathan.com.br
SUMMARY:BRAGANÇA PAULISTA-SP
DESCRIPTION:
URL:https://www.thiagojhonathan.com.br/event/sao-paulo-sp-32/
LOCATION:Chacrinha do Rene
CATEGORIES:Agenda Shows
END:VEVENT
BEGIN:VEVENT
DTSTART;TZID=America/Sao_Paulo:20221023T220000
DTEND;TZID=America/Sao_Paulo:20221023T233000
DTSTAMP:20260422T054949
CREATED:20221004T134120Z
LAST-MODIFIED:20221004T134120Z
UID:3969-1666562400-1666567800@www.thiagojhonathan.com.br
SUMMARY:PENHA-SP
DESCRIPTION:
URL:https://www.thiagojhonathan.com.br/event/penha-sp-4/
LOCATION:Clube da Villa
CATEGORIES:Agenda Shows
END:VEVENT
BEGIN:VEVENT
DTSTART;TZID=America/Sao_Paulo:20221028T220000
DTEND;TZID=America/Sao_Paulo:20221028T233000
DTSTAMP:20260422T054949
CREATED:20220909T135743Z
LAST-MODIFIED:20220909T140652Z
UID:3909-1666994400-1666999800@www.thiagojhonathan.com.br
SUMMARY:SÃO BERNARDO DO CAMPO-SP
DESCRIPTION:
URL:https://www.thiagojhonathan.com.br/event/sbc-sp/
LOCATION:Águia Show
CATEGORIES:Agenda Shows
END:VEVENT
BEGIN:VEVENT
DTSTART;TZID=America/Sao_Paulo:20221028T223000
DTEND;TZID=America/Sao_Paulo:20221028T233000
DTSTAMP:20260422T054949
CREATED:20221004T134759Z
LAST-MODIFIED:20221025T174231Z
UID:3972-1666996200-1666999800@www.thiagojhonathan.com.br
SUMMARY:SÃO MATHEUS-SP
DESCRIPTION:
URL:https://www.thiagojhonathan.com.br/event/pari-sp/
LOCATION:Mateo Bei Show
CATEGORIES:Agenda Shows
END:VEVENT
BEGIN:VEVENT
DTSTART;TZID=America/Sao_Paulo:20221029T213000
DTEND;TZID=America/Sao_Paulo:20221029T223000
DTSTAMP:20260422T054949
CREATED:20220909T140352Z
LAST-MODIFIED:20220909T140352Z
UID:3912-1667079000-1667082600@www.thiagojhonathan.com.br
SUMMARY:CAMPINAS-SP
DESCRIPTION:
URL:https://www.thiagojhonathan.com.br/event/campinas-sp-7/
LOCATION:Clube Atlético
CATEGORIES:Agenda Shows
END:VEVENT
BEGIN:VEVENT
DTSTART;TZID=America/Sao_Paulo:20221029T223000
DTEND;TZID=America/Sao_Paulo:20221029T233000
DTSTAMP:20260422T054949
CREATED:20221004T134954Z
LAST-MODIFIED:20221004T134954Z
UID:3975-1667082600-1667086200@www.thiagojhonathan.com.br
SUMMARY:FRANCO DA ROCHA-SP
DESCRIPTION:
URL:https://www.thiagojhonathan.com.br/event/franco-da-rocha-sp-2/
LOCATION:Rancho do Ortiz
CATEGORIES:Agenda Shows
END:VEVENT
BEGIN:VEVENT
DTSTART;TZID=America/Sao_Paulo:20221030T210000
DTEND;TZID=America/Sao_Paulo:20221030T220000
DTSTAMP:20260422T054949
CREATED:20220909T140530Z
LAST-MODIFIED:20220909T140530Z
UID:3915-1667163600-1667167200@www.thiagojhonathan.com.br
SUMMARY:CARAPICUÍBA-SP
DESCRIPTION:
URL:https://www.thiagojhonathan.com.br/event/carapicuiba-sp-4/
LOCATION:Clube Aldeia
CATEGORIES:Agenda Shows
END:VEVENT
BEGIN:VEVENT
DTSTART;TZID=America/Sao_Paulo:20221030T223000
DTEND;TZID=America/Sao_Paulo:20221030T233000
DTSTAMP:20260422T054949
CREATED:20221005T141512Z
LAST-MODIFIED:20221007T175924Z
UID:3978-1667169000-1667172600@www.thiagojhonathan.com.br
SUMMARY:CAMPO LIMPO-SP
DESCRIPTION:
URL:https://www.thiagojhonathan.com.br/event/sao-paulo-sp-31/
LOCATION:Opala Bar
CATEGORIES:Agenda Shows
END:VEVENT
BEGIN:VEVENT
DTSTART;TZID=America/Sao_Paulo:20221031T220000
DTEND;TZID=America/Sao_Paulo:20221031T233000
DTSTAMP:20260422T054949
CREATED:20221025T174451Z
LAST-MODIFIED:20221025T174451Z
UID:4012-1667253600-1667259000@www.thiagojhonathan.com.br
SUMMARY:VILA REMO-SP
DESCRIPTION:
URL:https://www.thiagojhonathan.com.br/event/vila-remo-sp-4/
LOCATION:Choperia do Peixoto
CATEGORIES:Agenda Shows
END:VEVENT
BEGIN:VEVENT
DTSTART;TZID=America/Sao_Paulo:20221101T210000
DTEND;TZID=America/Sao_Paulo:20221101T220000
DTSTAMP:20260422T054949
CREATED:20221007T180143Z
LAST-MODIFIED:20221007T180143Z
UID:3985-1667336400-1667340000@www.thiagojhonathan.com.br
SUMMARY:POÁ-SP
DESCRIPTION:
URL:https://www.thiagojhonathan.com.br/event/poa-sp-2/
LOCATION:Lua de Mel
CATEGORIES:Agenda Shows
END:VEVENT
BEGIN:VEVENT
DTSTART;TZID=America/Sao_Paulo:20221101T223000
DTEND;TZID=America/Sao_Paulo:20221101T233000
DTSTAMP:20260422T054949
CREATED:20221007T180320Z
LAST-MODIFIED:20221007T180320Z
UID:3987-1667341800-1667345400@www.thiagojhonathan.com.br
SUMMARY:ATIBAIA-SP
DESCRIPTION:
URL:https://www.thiagojhonathan.com.br/event/atibaia-sp-5/
LOCATION:Barracão do Forró
CATEGORIES:Agenda Shows
END:VEVENT
BEGIN:VEVENT
DTSTART;TZID=America/Sao_Paulo:20221114T210000
DTEND;TZID=America/Sao_Paulo:20221114T220000
DTSTAMP:20260422T054949
CREATED:20221111T173600Z
LAST-MODIFIED:20221111T173600Z
UID:4067-1668459600-1668463200@www.thiagojhonathan.com.br
SUMMARY:ANÁPOLIS-GO
DESCRIPTION:
URL:https://www.thiagojhonathan.com.br/event/anapolis-go-6/
LOCATION:Ibiza
CATEGORIES:Agenda Shows
END:VEVENT
BEGIN:VEVENT
DTSTART;TZID=America/Sao_Paulo:20221114T223000
DTEND;TZID=America/Sao_Paulo:20221114T233000
DTSTAMP:20260422T054949
CREATED:20221111T173747Z
LAST-MODIFIED:20221111T173747Z
UID:4069-1668465000-1668468600@www.thiagojhonathan.com.br
SUMMARY:GOIÂNIA-GO
DESCRIPTION:
URL:https://www.thiagojhonathan.com.br/event/goiania-go-20/
LOCATION:Empório Anel Viário
CATEGORIES:Agenda Shows
END:VEVENT
BEGIN:VEVENT
DTSTART;TZID=America/Sao_Paulo:20221118T213000
DTEND;TZID=America/Sao_Paulo:20221118T223000
DTSTAMP:20260422T054949
CREATED:20221028T192849Z
LAST-MODIFIED:20221028T194329Z
UID:4022-1668807000-1668810600@www.thiagojhonathan.com.br
SUMMARY:ÁGUAS LINDAS-GO
DESCRIPTION:
URL:https://www.thiagojhonathan.com.br/event/aguas-lindas-go-2/
LOCATION:Kaen Gastrobar
CATEGORIES:Agenda Shows
END:VEVENT
BEGIN:VEVENT
DTSTART;TZID=America/Sao_Paulo:20221118T220000
DTEND;TZID=America/Sao_Paulo:20221118T233000
DTSTAMP:20260422T054949
CREATED:20221028T193050Z
LAST-MODIFIED:20221028T193050Z
UID:4024-1668808800-1668814200@www.thiagojhonathan.com.br
SUMMARY:CEILÂNDIA-DF
DESCRIPTION:
URL:https://www.thiagojhonathan.com.br/event/ceilandia-df-6/
LOCATION:La Casa
CATEGORIES:Agenda Shows
END:VEVENT
BEGIN:VEVENT
DTSTART;TZID=America/Sao_Paulo:20221119T213000
DTEND;TZID=America/Sao_Paulo:20221119T223000
DTSTAMP:20260422T054949
CREATED:20221028T194703Z
LAST-MODIFIED:20221028T194703Z
UID:4026-1668893400-1668897000@www.thiagojhonathan.com.br
SUMMARY:SÃO SEBASTIÃO-DF
DESCRIPTION:
URL:https://www.thiagojhonathan.com.br/event/sao-sebastiao-df-5/
LOCATION:Arena Top Show
CATEGORIES:Agenda Shows
END:VEVENT
BEGIN:VEVENT
DTSTART;TZID=America/Sao_Paulo:20221119T223000
DTEND;TZID=America/Sao_Paulo:20221119T233000
DTSTAMP:20260422T054949
CREATED:20221028T194822Z
LAST-MODIFIED:20221028T194822Z
UID:4029-1668897000-1668900600@www.thiagojhonathan.com.br
SUMMARY:BRASÍLIA-DF
DESCRIPTION:
URL:https://www.thiagojhonathan.com.br/event/brasilia-df-14/
LOCATION:Texxas
CATEGORIES:Agenda Shows
END:VEVENT
BEGIN:VEVENT
DTSTART;TZID=America/Sao_Paulo:20221120T213000
DTEND;TZID=America/Sao_Paulo:20221120T223000
DTSTAMP:20260422T054949
CREATED:20221028T195059Z
LAST-MODIFIED:20221101T143136Z
UID:4032-1668979800-1668983400@www.thiagojhonathan.com.br
SUMMARY:PARANOÁ-DF
DESCRIPTION:
URL:https://www.thiagojhonathan.com.br/event/paranoa-df-6/
LOCATION:Hangar 61
CATEGORIES:Agenda Shows
END:VEVENT
BEGIN:VEVENT
DTSTART;TZID=America/Sao_Paulo:20221120T223000
DTEND;TZID=America/Sao_Paulo:20221120T233000
DTSTAMP:20260422T054949
CREATED:20221028T195408Z
LAST-MODIFIED:20221028T195408Z
UID:4034-1668983400-1668987000@www.thiagojhonathan.com.br
SUMMARY:PLANALTINA-DF
DESCRIPTION:
URL:https://www.thiagojhonathan.com.br/event/planaltina-df-2/
LOCATION:Estacionamento Posto Paraiso
CATEGORIES:Agenda Shows
END:VEVENT
BEGIN:VEVENT
DTSTART;TZID=America/Sao_Paulo:20221125T220000
DTEND;TZID=America/Sao_Paulo:20221125T233000
DTSTAMP:20260422T054949
CREATED:20221111T170954Z
LAST-MODIFIED:20221111T170954Z
UID:4064-1669413600-1669419000@www.thiagojhonathan.com.br
SUMMARY:CASA DE TÁBUA-PA
DESCRIPTION:
URL:https://www.thiagojhonathan.com.br/event/casa-de-tabua-pa/
LOCATION:Clube Arena Vip
CATEGORIES:Agenda Shows
END:VEVENT
BEGIN:VEVENT
DTSTART;TZID=America/Sao_Paulo:20221126T220000
DTEND;TZID=America/Sao_Paulo:20221126T233000
DTSTAMP:20260422T054949
CREATED:20221028T195817Z
LAST-MODIFIED:20221101T143512Z
UID:4037-1669500000-1669505400@www.thiagojhonathan.com.br
SUMMARY:BANNACH-PA
DESCRIPTION:
URL:https://www.thiagojhonathan.com.br/event/para-pa-5/
LOCATION:Praça Pública
CATEGORIES:Agenda Shows
END:VEVENT
BEGIN:VEVENT
DTSTART;TZID=America/Sao_Paulo:20221202T220000
DTEND;TZID=America/Sao_Paulo:20221202T233000
DTSTAMP:20260422T054949
CREATED:20221104T181726Z
LAST-MODIFIED:20221104T181726Z
UID:4054-1670018400-1670023800@www.thiagojhonathan.com.br
SUMMARY:CÁCERES-MT
DESCRIPTION:
URL:https://www.thiagojhonathan.com.br/event/caceres-mt-2/
LOCATION:Praça Pública
CATEGORIES:Agenda Shows
END:VEVENT
BEGIN:VEVENT
DTSTART;TZID=America/Sao_Paulo:20221203T220000
DTEND;TZID=America/Sao_Paulo:20221203T233000
DTSTAMP:20260422T054949
CREATED:20221104T181843Z
LAST-MODIFIED:20221104T181843Z
UID:4056-1670104800-1670110200@www.thiagojhonathan.com.br
SUMMARY:SINOP-MT
DESCRIPTION:
URL:https://www.thiagojhonathan.com.br/event/sinop-mt-3/
LOCATION:Clube da Afusmac
CATEGORIES:Agenda Shows
END:VEVENT
BEGIN:VEVENT
DTSTART;TZID=America/Sao_Paulo:20221204T220000
DTEND;TZID=America/Sao_Paulo:20221204T233000
DTSTAMP:20260422T054949
CREATED:20221104T182001Z
LAST-MODIFIED:20221104T182001Z
UID:4058-1670191200-1670196600@www.thiagojhonathan.com.br
SUMMARY:SORRISO-MT
DESCRIPTION:
URL:https://www.thiagojhonathan.com.br/event/sorriso-mt-5/
LOCATION:Ctns
CATEGORIES:Agenda Shows
END:VEVENT
BEGIN:VEVENT
DTSTART;TZID=America/Sao_Paulo:20221209T220000
DTEND;TZID=America/Sao_Paulo:20221209T233000
DTSTAMP:20260422T054949
CREATED:20221125T124357Z
LAST-MODIFIED:20221125T124357Z
UID:4072-1670623200-1670628600@www.thiagojhonathan.com.br
SUMMARY:GOIÂNIA-GO
DESCRIPTION:
URL:https://www.thiagojhonathan.com.br/event/goiania-go-21/
LOCATION:Som da Terra
CATEGORIES:Agenda Shows
END:VEVENT
BEGIN:VEVENT
DTSTART;TZID=America/Sao_Paulo:20221210T220000
DTEND;TZID=America/Sao_Paulo:20221210T233000
DTSTAMP:20260422T054949
CREATED:20221104T183243Z
LAST-MODIFIED:20221104T183243Z
UID:4061-1670709600-1670715000@www.thiagojhonathan.com.br
SUMMARY:ALTO PARAÍSO DE GOIÁS-GO
DESCRIPTION:
URL:https://www.thiagojhonathan.com.br/event/alto-paraiso-de-goias-go/
LOCATION:Praça Pública
CATEGORIES:Agenda Shows
END:VEVENT
BEGIN:VEVENT
DTSTART;TZID=America/Sao_Paulo:20221211T200000
DTEND;TZID=America/Sao_Paulo:20221211T213000
DTSTAMP:20260422T054949
CREATED:20221125T124601Z
LAST-MODIFIED:20221125T124601Z
UID:4074-1670788800-1670794200@www.thiagojhonathan.com.br
SUMMARY:SENADOR CANEDO-GO
DESCRIPTION:
URL:https://www.thiagojhonathan.com.br/event/senador-canedo-go-6/
LOCATION:Liberato Show
CATEGORIES:Agenda Shows
END:VEVENT
BEGIN:VEVENT
DTSTART;TZID=America/Sao_Paulo:20221211T220000
DTEND;TZID=America/Sao_Paulo:20221211T233000
DTSTAMP:20260422T054949
CREATED:20221125T124736Z
LAST-MODIFIED:20221125T124736Z
UID:4076-1670796000-1670801400@www.thiagojhonathan.com.br
SUMMARY:GOIÂNIA-GO
DESCRIPTION:
URL:https://www.thiagojhonathan.com.br/event/goiania-go-22/
LOCATION:Malibu Music Hall- Jardim América
CATEGORIES:Agenda Shows
END:VEVENT
END:VCALENDAR