BEGIN:VCALENDAR
VERSION:2.0
PRODID:-//Thiago Jhonathan #TJ - Site Oficial - ECPv6.1.2.2//NONSGML v1.0//EN
CALSCALE:GREGORIAN
METHOD:PUBLISH
X-ORIGINAL-URL:https://www.thiagojhonathan.com.br
X-WR-CALDESC:Eventos para Thiago Jhonathan #TJ - Site Oficial
REFRESH-INTERVAL;VALUE=DURATION:PT1H
X-Robots-Tag:noindex
X-PUBLISHED-TTL:PT1H
BEGIN:VTIMEZONE
TZID:America/Sao_Paulo
BEGIN:STANDARD
TZOFFSETFROM:-0300
TZOFFSETTO:-0300
TZNAME:-03
DTSTART:20220101T000000
END:STANDARD
END:VTIMEZONE
BEGIN:VEVENT
DTSTART;TZID=America/Sao_Paulo:20220906T210000
DTEND;TZID=America/Sao_Paulo:20220906T220000
DTSTAMP:20260422T083618
CREATED:20220829T195114Z
LAST-MODIFIED:20220829T195114Z
UID:3870-1662498000-1662501600@www.thiagojhonathan.com.br
SUMMARY:ANÁPOLIS-GO
DESCRIPTION:ANÁPOLIS-
URL:https://www.thiagojhonathan.com.br/event/anapolis-go-5/
LOCATION:Terra Brasil
CATEGORIES:Agenda Shows
END:VEVENT
BEGIN:VEVENT
DTSTART;TZID=America/Sao_Paulo:20220906T220000
DTEND;TZID=America/Sao_Paulo:20220906T233000
DTSTAMP:20260422T083618
CREATED:20220825T132150Z
LAST-MODIFIED:20220825T132150Z
UID:3854-1662501600-1662507000@www.thiagojhonathan.com.br
SUMMARY:GOIÂNIA-GO
DESCRIPTION:
URL:https://www.thiagojhonathan.com.br/event/goiania-go-19/
LOCATION:Chácara do Japonês/ Jardim América
CATEGORIES:Agenda Shows
END:VEVENT
BEGIN:VEVENT
DTSTART;TZID=America/Sao_Paulo:20220907T180000
DTEND;TZID=America/Sao_Paulo:20220907T200000
DTSTAMP:20260422T083618
CREATED:20220825T131836Z
LAST-MODIFIED:20220825T131836Z
UID:3852-1662573600-1662580800@www.thiagojhonathan.com.br
SUMMARY:APARECIDA DE GOIÂNIA-GO
DESCRIPTION:
URL:https://www.thiagojhonathan.com.br/event/aparecida-de-goiania-go-4/
LOCATION:Bar com Peixe e Karaokê
CATEGORIES:Agenda Shows
END:VEVENT
BEGIN:VEVENT
DTSTART;TZID=America/Sao_Paulo:20220907T213000
DTEND;TZID=America/Sao_Paulo:20220907T223000
DTSTAMP:20260422T083618
CREATED:20220825T131401Z
LAST-MODIFIED:20220825T132515Z
UID:3849-1662586200-1662589800@www.thiagojhonathan.com.br
SUMMARY:GOIÂNIRA-GO
DESCRIPTION:
URL:https://www.thiagojhonathan.com.br/event/goiania-go-17/
LOCATION:Forró Potência/Setor Triunfo
CATEGORIES:Agenda Shows
END:VEVENT
BEGIN:VEVENT
DTSTART;TZID=America/Sao_Paulo:20220909T220000
DTEND;TZID=America/Sao_Paulo:20220909T233000
DTSTAMP:20260422T083618
CREATED:20220831T185153Z
LAST-MODIFIED:20220831T185153Z
UID:3872-1662760800-1662766200@www.thiagojhonathan.com.br
SUMMARY:PATOS DE MINAS-MG
DESCRIPTION:
URL:https://www.thiagojhonathan.com.br/event/patos-de-minas-mg-3/
LOCATION:Sagarana’s
CATEGORIES:Agenda Shows
END:VEVENT
BEGIN:VEVENT
DTSTART;TZID=America/Sao_Paulo:20220910T220000
DTEND;TZID=America/Sao_Paulo:20220910T233000
DTSTAMP:20260422T083618
CREATED:20220708T190112Z
LAST-MODIFIED:20220708T190112Z
UID:3797-1662847200-1662852600@www.thiagojhonathan.com.br
SUMMARY:SANTO ANTÔNIO DO ITAMBÉ-MG
DESCRIPTION:
URL:https://www.thiagojhonathan.com.br/event/santo-antonio-do-itambe-mg/
LOCATION:Praça Pública
CATEGORIES:Agenda Shows
END:VEVENT
BEGIN:VEVENT
DTSTART;TZID=America/Sao_Paulo:20220911T220000
DTEND;TZID=America/Sao_Paulo:20220911T233000
DTSTAMP:20260422T083618
CREATED:20220826T210849Z
LAST-MODIFIED:20220826T210849Z
UID:3865-1662933600-1662939000@www.thiagojhonathan.com.br
SUMMARY:RIO PARDO DE MINAS-MG
DESCRIPTION:
URL:https://www.thiagojhonathan.com.br/event/rio-pardo-de-minas-mg-2/
LOCATION:Festa do Eucalipto e do Minério/ Dist. Nova Aurora
CATEGORIES:Agenda Shows
END:VEVENT
BEGIN:VEVENT
DTSTART;TZID=America/Sao_Paulo:20220916T220000
DTEND;TZID=America/Sao_Paulo:20220916T233000
DTSTAMP:20260422T083618
CREATED:20220831T185902Z
LAST-MODIFIED:20220831T185902Z
UID:3875-1663365600-1663371000@www.thiagojhonathan.com.br
SUMMARY:SÃO JOSÉ DOS QUATRO MARCOS-MT
DESCRIPTION:
URL:https://www.thiagojhonathan.com.br/event/sao-jose-dos-quatro-marcos-mt/
LOCATION:Praça Pública
CATEGORIES:Agenda Shows
END:VEVENT
BEGIN:VEVENT
DTSTART;TZID=America/Sao_Paulo:20220917T220000
DTEND;TZID=America/Sao_Paulo:20220917T233000
DTSTAMP:20260422T083618
CREATED:20220812T141310Z
LAST-MODIFIED:20220812T141310Z
UID:3845-1663452000-1663457400@www.thiagojhonathan.com.br
SUMMARY:TANGARÁ DA SERRA-MT
DESCRIPTION:
URL:https://www.thiagojhonathan.com.br/event/tangara-da-serra-mt/
LOCATION:Brutus
CATEGORIES:Agenda Shows
END:VEVENT
BEGIN:VEVENT
DTSTART;TZID=America/Sao_Paulo:20220918T220000
DTEND;TZID=America/Sao_Paulo:20220918T233000
DTSTAMP:20260422T083618
CREATED:20220831T190003Z
LAST-MODIFIED:20220831T212313Z
UID:3877-1663538400-1663543800@www.thiagojhonathan.com.br
SUMMARY:BARRA DO BUGRES-MT
DESCRIPTION:
URL:https://www.thiagojhonathan.com.br/event/mato-grosso-mt-8/
LOCATION:Recanto Boa Vista
CATEGORIES:Agenda Shows
END:VEVENT
BEGIN:VEVENT
DTSTART;TZID=America/Sao_Paulo:20220923T220000
DTEND;TZID=America/Sao_Paulo:20220923T233000
DTSTAMP:20260422T083618
CREATED:20220831T190118Z
LAST-MODIFIED:20220831T212548Z
UID:3879-1663970400-1663975800@www.thiagojhonathan.com.br
SUMMARY:UNAI-MG
DESCRIPTION:
URL:https://www.thiagojhonathan.com.br/event/unai-mg-3/
LOCATION:Colinas Clube
CATEGORIES:Agenda Shows
END:VEVENT
BEGIN:VEVENT
DTSTART;TZID=America/Sao_Paulo:20220924T220000
DTEND;TZID=America/Sao_Paulo:20220924T233000
DTSTAMP:20260422T083618
CREATED:20220825T143715Z
LAST-MODIFIED:20220825T143715Z
UID:3859-1664056800-1664062200@www.thiagojhonathan.com.br
SUMMARY:VALE DAS CANCELAS GRÃO MOGOL-MG
DESCRIPTION:
URL:https://www.thiagojhonathan.com.br/event/vale-das-cancelas-grao-mogol-mg/
LOCATION:Praça Pública
CATEGORIES:Agenda Shows
END:VEVENT
BEGIN:VEVENT
DTSTART;TZID=America/Sao_Paulo:20220925T220000
DTEND;TZID=America/Sao_Paulo:20220925T233000
DTSTAMP:20260422T083618
CREATED:20220825T143816Z
LAST-MODIFIED:20220825T143816Z
UID:3861-1664143200-1664148600@www.thiagojhonathan.com.br
SUMMARY:RIACHO DOS MACHADOS-MG
DESCRIPTION:
URL:https://www.thiagojhonathan.com.br/event/riacho-dos-machados-mg/
LOCATION:Praça Pública
CATEGORIES:Agenda Shows
END:VEVENT
BEGIN:VEVENT
DTSTART;TZID=America/Sao_Paulo:20220929T220000
DTEND;TZID=America/Sao_Paulo:20220929T233000
DTSTAMP:20260422T083618
CREATED:20220831T190238Z
LAST-MODIFIED:20220831T190238Z
UID:3881-1664488800-1664494200@www.thiagojhonathan.com.br
SUMMARY:PRAIA GRANDE-SP
DESCRIPTION:
URL:https://www.thiagojhonathan.com.br/event/praia-grande-sp/
LOCATION:Forró do Portinho
CATEGORIES:Agenda Shows
END:VEVENT
BEGIN:VEVENT
DTSTART;TZID=America/Sao_Paulo:20220930T210000
DTEND;TZID=America/Sao_Paulo:20220930T220000
DTSTAMP:20260422T083618
CREATED:20220831T190418Z
LAST-MODIFIED:20220831T190418Z
UID:3884-1664571600-1664575200@www.thiagojhonathan.com.br
SUMMARY:ITU-SP
DESCRIPTION:
URL:https://www.thiagojhonathan.com.br/event/itu-sp/
LOCATION:Nambu Beer
CATEGORIES:Agenda Shows
END:VEVENT
BEGIN:VEVENT
DTSTART;TZID=America/Sao_Paulo:20220930T223000
DTEND;TZID=America/Sao_Paulo:20220930T233000
DTSTAMP:20260422T083618
CREATED:20220831T190628Z
LAST-MODIFIED:20220831T190628Z
UID:3887-1664577000-1664580600@www.thiagojhonathan.com.br
SUMMARY:INDAIATUBA-SP
DESCRIPTION:
URL:https://www.thiagojhonathan.com.br/event/indaiatuba-sp-2/
LOCATION:Sosil Clube
CATEGORIES:Agenda Shows
END:VEVENT
BEGIN:VEVENT
DTSTART;TZID=America/Sao_Paulo:20221001T210000
DTEND;TZID=America/Sao_Paulo:20221001T220000
DTSTAMP:20260422T083618
CREATED:20220831T190812Z
LAST-MODIFIED:20220831T190812Z
UID:3890-1664658000-1664661600@www.thiagojhonathan.com.br
SUMMARY:PAULÍNIA-SP
DESCRIPTION:
URL:https://www.thiagojhonathan.com.br/event/paulinia-sp/
LOCATION:Arena Mega Show
CATEGORIES:Agenda Shows
END:VEVENT
BEGIN:VEVENT
DTSTART;TZID=America/Sao_Paulo:20221001T223000
DTEND;TZID=America/Sao_Paulo:20221001T233000
DTSTAMP:20260422T083618
CREATED:20220831T191546Z
LAST-MODIFIED:20220831T191546Z
UID:3893-1664663400-1664667000@www.thiagojhonathan.com.br
SUMMARY:PIRACICABA-SP
DESCRIPTION:
URL:https://www.thiagojhonathan.com.br/event/piracicaba-sp-3/
LOCATION:Chácaras Beer
CATEGORIES:Agenda Shows
END:VEVENT
BEGIN:VEVENT
DTSTART;TZID=America/Sao_Paulo:20221002T210000
DTEND;TZID=America/Sao_Paulo:20221002T220000
DTSTAMP:20260422T083618
CREATED:20220831T191652Z
LAST-MODIFIED:20220831T191652Z
UID:3896-1664744400-1664748000@www.thiagojhonathan.com.br
SUMMARY:SERRANA-SP
DESCRIPTION:
URL:https://www.thiagojhonathan.com.br/event/serrana-sp/
LOCATION:Espaçao Festas Music
CATEGORIES:Agenda Shows
END:VEVENT
BEGIN:VEVENT
DTSTART;TZID=America/Sao_Paulo:20221002T223000
DTEND;TZID=America/Sao_Paulo:20221002T233000
DTSTAMP:20260422T083618
CREATED:20220831T191829Z
LAST-MODIFIED:20220831T191829Z
UID:3899-1664749800-1664753400@www.thiagojhonathan.com.br
SUMMARY:RIBEIRÃO PRETO-SP
DESCRIPTION:
URL:https://www.thiagojhonathan.com.br/event/ribeirao-preto-sp-2/
LOCATION:Arena Shows – No Parque Ribeirão
CATEGORIES:Agenda Shows
END:VEVENT
BEGIN:VEVENT
DTSTART;TZID=America/Sao_Paulo:20221007T220000
DTEND;TZID=America/Sao_Paulo:20221007T233000
DTSTAMP:20260422T083618
CREATED:20220929T135051Z
LAST-MODIFIED:20220929T135051Z
UID:3928-1665180000-1665185400@www.thiagojhonathan.com.br
SUMMARY:PASSO FUNDO-RS
DESCRIPTION:
URL:https://www.thiagojhonathan.com.br/event/passo-fundo-rs-2/
LOCATION:Bailinho da 15
CATEGORIES:Agenda Shows
END:VEVENT
BEGIN:VEVENT
DTSTART;TZID=America/Sao_Paulo:20221008T210000
DTEND;TZID=America/Sao_Paulo:20221008T220000
DTSTAMP:20260422T083618
CREATED:20220929T135224Z
LAST-MODIFIED:20220929T135639Z
UID:3931-1665262800-1665266400@www.thiagojhonathan.com.br
SUMMARY:CAXIAS DO SUL-RS
DESCRIPTION:
URL:https://www.thiagojhonathan.com.br/event/caxias-do-sul-rs/
LOCATION:Galpão do Bifi
CATEGORIES:Agenda Shows
END:VEVENT
BEGIN:VEVENT
DTSTART;TZID=America/Sao_Paulo:20221008T220000
DTEND;TZID=America/Sao_Paulo:20221008T233000
DTSTAMP:20260422T083618
CREATED:20220929T135759Z
LAST-MODIFIED:20220929T135759Z
UID:3935-1665266400-1665271800@www.thiagojhonathan.com.br
SUMMARY:CAXIAS DO SUL-RS
DESCRIPTION:
URL:https://www.thiagojhonathan.com.br/event/caxias-do-sul-rs-2/
LOCATION:Rancho do Baile
CATEGORIES:Agenda Shows
END:VEVENT
BEGIN:VEVENT
DTSTART;TZID=America/Sao_Paulo:20221009T210000
DTEND;TZID=America/Sao_Paulo:20221009T220000
DTSTAMP:20260422T083618
CREATED:20220929T140037Z
LAST-MODIFIED:20220929T140037Z
UID:3937-1665349200-1665352800@www.thiagojhonathan.com.br
SUMMARY:REDENTORA-RS
DESCRIPTION:
URL:https://www.thiagojhonathan.com.br/event/redentora-rs/
LOCATION:Área Indígena Guarita
CATEGORIES:Agenda Shows
END:VEVENT
BEGIN:VEVENT
DTSTART;TZID=America/Sao_Paulo:20221009T223000
DTEND;TZID=America/Sao_Paulo:20221009T233000
DTSTAMP:20260422T083618
CREATED:20220929T140221Z
LAST-MODIFIED:20220929T140259Z
UID:3940-1665354600-1665358200@www.thiagojhonathan.com.br
SUMMARY:VILA MARIA-RS
DESCRIPTION:
URL:https://www.thiagojhonathan.com.br/event/vila-maria-rs-2/
LOCATION:Villas Club
CATEGORIES:Agenda Shows
END:VEVENT
BEGIN:VEVENT
DTSTART;TZID=America/Sao_Paulo:20221011T220000
DTEND;TZID=America/Sao_Paulo:20221011T233000
DTSTAMP:20260422T083618
CREATED:20220929T140435Z
LAST-MODIFIED:20220929T140435Z
UID:3943-1665525600-1665531000@www.thiagojhonathan.com.br
SUMMARY:NONOAI-RS
DESCRIPTION:
URL:https://www.thiagojhonathan.com.br/event/nonoai-rs/
LOCATION:Posto Indígena
CATEGORIES:Agenda Shows
END:VEVENT
BEGIN:VEVENT
DTSTART;TZID=America/Sao_Paulo:20221012T220000
DTEND;TZID=America/Sao_Paulo:20221012T233000
DTSTAMP:20260422T083618
CREATED:20220929T140628Z
LAST-MODIFIED:20220929T140628Z
UID:3946-1665612000-1665617400@www.thiagojhonathan.com.br
SUMMARY:EREBANGO-RS
DESCRIPTION:
URL:https://www.thiagojhonathan.com.br/event/erebango-rs/
LOCATION:Área Indígena Vantara Alta
CATEGORIES:Agenda Shows
END:VEVENT
BEGIN:VEVENT
DTSTART;TZID=America/Sao_Paulo:20221014T220000
DTEND;TZID=America/Sao_Paulo:20221014T233000
DTSTAMP:20260422T083618
CREATED:20220929T140844Z
LAST-MODIFIED:20220929T140844Z
UID:3949-1665784800-1665790200@www.thiagojhonathan.com.br
SUMMARY:CARAZINHO-RS
DESCRIPTION:
URL:https://www.thiagojhonathan.com.br/event/carazinho-rs/
LOCATION:Prisma Eventos
CATEGORIES:Agenda Shows
END:VEVENT
BEGIN:VEVENT
DTSTART;TZID=America/Sao_Paulo:20221015T210000
DTEND;TZID=America/Sao_Paulo:20221015T220000
DTSTAMP:20260422T083618
CREATED:20220929T141015Z
LAST-MODIFIED:20220929T141015Z
UID:3952-1665867600-1665871200@www.thiagojhonathan.com.br
SUMMARY:MARAU-RS
DESCRIPTION:
URL:https://www.thiagojhonathan.com.br/event/marau-rs/
LOCATION:Associação dos Motoristas
CATEGORIES:Agenda Shows
END:VEVENT
BEGIN:VEVENT
DTSTART;TZID=America/Sao_Paulo:20221015T223000
DTEND;TZID=America/Sao_Paulo:20221015T230000
DTSTAMP:20260422T083618
CREATED:20220929T141133Z
LAST-MODIFIED:20220929T142424Z
UID:3955-1665873000-1665874800@www.thiagojhonathan.com.br
SUMMARY:CIRÍACO-RS
DESCRIPTION:
URL:https://www.thiagojhonathan.com.br/event/ciriiaco-rs/
LOCATION:Moes
CATEGORIES:Agenda Shows
END:VEVENT
END:VCALENDAR