BEGIN:VCALENDAR
VERSION:2.0
PRODID:-//Thiago Jhonathan #TJ - Site Oficial - ECPv6.1.2.2//NONSGML v1.0//EN
CALSCALE:GREGORIAN
METHOD:PUBLISH
X-ORIGINAL-URL:https://www.thiagojhonathan.com.br
X-WR-CALDESC:Eventos para Thiago Jhonathan #TJ - Site Oficial
REFRESH-INTERVAL;VALUE=DURATION:PT1H
X-Robots-Tag:noindex
X-PUBLISHED-TTL:PT1H
BEGIN:VTIMEZONE
TZID:America/Sao_Paulo
BEGIN:STANDARD
TZOFFSETFROM:-0300
TZOFFSETTO:-0300
TZNAME:-03
DTSTART:20220101T000000
END:STANDARD
END:VTIMEZONE
BEGIN:VEVENT
DTSTART;TZID=America/Sao_Paulo:20220508T223000
DTEND;TZID=America/Sao_Paulo:20220508T233000
DTSTAMP:20260422T124757
CREATED:20220331T145055Z
LAST-MODIFIED:20220331T145211Z
UID:3621-1652049000-1652052600@www.thiagojhonathan.com.br
SUMMARY:VÁRZEA DA PALMA-MG
DESCRIPTION:
URL:https://www.thiagojhonathan.com.br/event/varzea-da-palma-mg/
LOCATION:Palmas Club
CATEGORIES:Agenda Shows
END:VEVENT
BEGIN:VEVENT
DTSTART;TZID=America/Sao_Paulo:20220512T220000
DTEND;TZID=America/Sao_Paulo:20220512T233000
DTSTAMP:20260422T124757
CREATED:20220401T225057Z
LAST-MODIFIED:20220401T230440Z
UID:3633-1652392800-1652398200@www.thiagojhonathan.com.br
SUMMARY:SÃO FELIX DO ARAGUAIA-MT
DESCRIPTION:
URL:https://www.thiagojhonathan.com.br/event/sao-felix-do-araguaia-mt-2/
LOCATION:Praça Pública
CATEGORIES:Agenda Shows
END:VEVENT
BEGIN:VEVENT
DTSTART;TZID=America/Sao_Paulo:20220513T220000
DTEND;TZID=America/Sao_Paulo:20220513T233000
DTSTAMP:20260422T124757
CREATED:20220427T185827Z
LAST-MODIFIED:20220427T185827Z
UID:3700-1652479200-1652484600@www.thiagojhonathan.com.br
SUMMARY:PORTO ALEGRE DO NORTE-MT
DESCRIPTION:
URL:https://www.thiagojhonathan.com.br/event/porto-alegre-do-norte-mt/
LOCATION:Praça Pública
CATEGORIES:Agenda Shows
END:VEVENT
BEGIN:VEVENT
DTSTART;TZID=America/Sao_Paulo:20220514T220000
DTEND;TZID=America/Sao_Paulo:20220514T233000
DTSTAMP:20260422T124757
CREATED:20220428T194217Z
LAST-MODIFIED:20220503T124633Z
UID:3727-1652565600-1652571000@www.thiagojhonathan.com.br
SUMMARY:CUMARU DO NORTE-PA
DESCRIPTION:
URL:https://www.thiagojhonathan.com.br/event/cumaru-do-norte-mt/
LOCATION:Free Way
CATEGORIES:Agenda Shows
END:VEVENT
BEGIN:VEVENT
DTSTART;TZID=America/Sao_Paulo:20220515T220000
DTEND;TZID=America/Sao_Paulo:20220515T233000
DTSTAMP:20260422T124757
CREATED:20220427T183117Z
LAST-MODIFIED:20220502T204825Z
UID:3696-1652652000-1652657400@www.thiagojhonathan.com.br
SUMMARY:ELDORADO DOS CARAJÁS-PA
DESCRIPTION:
URL:https://www.thiagojhonathan.com.br/event/eldorado-dos-carajas-pa/
LOCATION:Pipoco Lounge Bar
CATEGORIES:Agenda Shows
END:VEVENT
BEGIN:VEVENT
DTSTART;TZID=America/Sao_Paulo:20220519T220000
DTEND;TZID=America/Sao_Paulo:20220519T233000
DTSTAMP:20260422T124757
CREATED:20220406T114934Z
LAST-MODIFIED:20220406T114934Z
UID:3668-1652997600-1653003000@www.thiagojhonathan.com.br
SUMMARY:MARIANÓPOLIS-TO
DESCRIPTION:
URL:https://www.thiagojhonathan.com.br/event/marianopolis-to-2/
LOCATION:Parque de Exposição
CATEGORIES:Agenda Shows
END:VEVENT
BEGIN:VEVENT
DTSTART;TZID=America/Sao_Paulo:20220521T220000
DTEND;TZID=America/Sao_Paulo:20220521T233000
DTSTAMP:20260422T124757
CREATED:20220406T114758Z
LAST-MODIFIED:20220406T114758Z
UID:3666-1653170400-1653175800@www.thiagojhonathan.com.br
SUMMARY:MIRACEMA-TO
DESCRIPTION:
URL:https://www.thiagojhonathan.com.br/event/miracema-to/
LOCATION:Parque de Exposição
CATEGORIES:Agenda Shows
END:VEVENT
BEGIN:VEVENT
DTSTART;TZID=America/Sao_Paulo:20220526T220000
DTEND;TZID=America/Sao_Paulo:20220526T233000
DTSTAMP:20260422T124757
CREATED:20220423T182219Z
LAST-MODIFIED:20220423T182219Z
UID:3694-1653602400-1653607800@www.thiagojhonathan.com.br
SUMMARY:DIVINÓPOLIS DO TOCANTIS-TO
DESCRIPTION:
URL:https://www.thiagojhonathan.com.br/event/divinopolis-do-tocantis-to/
LOCATION:Parque de Exposição
CATEGORIES:Agenda Shows
END:VEVENT
BEGIN:VEVENT
DTSTART;TZID=America/Sao_Paulo:20220527T220000
DTEND;TZID=America/Sao_Paulo:20220527T233000
DTSTAMP:20260422T124757
CREATED:20220427T183547Z
LAST-MODIFIED:20220427T183547Z
UID:3698-1653688800-1653694200@www.thiagojhonathan.com.br
SUMMARY:PUGMIL-TO
DESCRIPTION:
URL:https://www.thiagojhonathan.com.br/event/pugmil-to-2/
LOCATION:Praça Pública
CATEGORIES:Agenda Shows
END:VEVENT
BEGIN:VEVENT
DTSTART;TZID=America/Sao_Paulo:20220528T220000
DTEND;TZID=America/Sao_Paulo:20220528T233000
DTSTAMP:20260422T124757
CREATED:20220401T231528Z
LAST-MODIFIED:20220401T231528Z
UID:3642-1653775200-1653780600@www.thiagojhonathan.com.br
SUMMARY:SANTA ROSA DO TOCANTINS-TO
DESCRIPTION:
URL:https://www.thiagojhonathan.com.br/event/santa-rosa-do-tocantins-to-2/
LOCATION:Praça Pública
CATEGORIES:Agenda Shows
END:VEVENT
BEGIN:VEVENT
DTSTART;TZID=America/Sao_Paulo:20220529T220000
DTEND;TZID=America/Sao_Paulo:20220626T233000
DTSTAMP:20260422T124757
CREATED:20220429T174051Z
LAST-MODIFIED:20220516T170842Z
UID:3732-1653861600-1656286200@www.thiagojhonathan.com.br
SUMMARY:CORRENTINA-BA
DESCRIPTION:
URL:https://www.thiagojhonathan.com.br/event/bahia-ba/
LOCATION:Parque de Vaquejada Maria Vieira
CATEGORIES:Agenda Shows
END:VEVENT
BEGIN:VEVENT
DTSTART;TZID=America/Sao_Paulo:20220530T220000
DTEND;TZID=America/Sao_Paulo:20220530T233000
DTSTAMP:20260422T124757
CREATED:20220502T204356Z
LAST-MODIFIED:20220502T204356Z
UID:3735-1653948000-1653953400@www.thiagojhonathan.com.br
SUMMARY:BERILO-MG
DESCRIPTION:
URL:https://www.thiagojhonathan.com.br/event/berilo-mg-2/
LOCATION:Praça Pública
CATEGORIES:Agenda Shows
END:VEVENT
BEGIN:VEVENT
DTSTART;TZID=America/Sao_Paulo:20220603T220000
DTEND;TZID=America/Sao_Paulo:20220603T233000
DTSTAMP:20260422T124757
CREATED:20220526T170615Z
LAST-MODIFIED:20220526T170615Z
UID:3749-1654293600-1654299000@www.thiagojhonathan.com.br
SUMMARY:BRAZLÂNDIA-DF
DESCRIPTION:
URL:https://www.thiagojhonathan.com.br/event/brazlandia-df/
LOCATION:Aniversário da Cidade
CATEGORIES:Agenda Shows
END:VEVENT
BEGIN:VEVENT
DTSTART;TZID=America/Sao_Paulo:20220604T220000
DTEND;TZID=America/Sao_Paulo:20220604T233000
DTSTAMP:20260422T124757
CREATED:20220401T230838Z
LAST-MODIFIED:20220526T165311Z
UID:3635-1654380000-1654385400@www.thiagojhonathan.com.br
SUMMARY:SÃO LUIZ DO NORTE-GO
DESCRIPTION:
URL:https://www.thiagojhonathan.com.br/event/sao-luiz-do-norte-go/
LOCATION:Praça Pública
CATEGORIES:Agenda Shows
END:VEVENT
BEGIN:VEVENT
DTSTART;TZID=America/Sao_Paulo:20220605T080000
DTEND;TZID=America/Sao_Paulo:20220605T170000
DTSTAMP:20260422T124757
CREATED:20220331T145713Z
LAST-MODIFIED:20220603T160021Z
UID:3625-1654416000-1654448400@www.thiagojhonathan.com.br
SUMMARY:PIRENÓPOLIS-GO
DESCRIPTION:
URL:https://www.thiagojhonathan.com.br/event/pirenopolis-go/
LOCATION:Rancho das Cavalhadas
CATEGORIES:Agenda Shows
END:VEVENT
BEGIN:VEVENT
DTSTART;TZID=America/Sao_Paulo:20220609T220000
DTEND;TZID=America/Sao_Paulo:20220609T233000
DTSTAMP:20260422T124757
CREATED:20220602T135228Z
LAST-MODIFIED:20220602T135228Z
UID:3752-1654812000-1654817400@www.thiagojhonathan.com.br
SUMMARY:ALIANÇA DO TOCANTINS-TO
DESCRIPTION:
URL:https://www.thiagojhonathan.com.br/event/alianca-do-tocantins-to/
LOCATION:Praça Pública
CATEGORIES:Agenda Shows
END:VEVENT
BEGIN:VEVENT
DTSTART;TZID=America/Sao_Paulo:20220610T220000
DTEND;TZID=America/Sao_Paulo:20220610T233000
DTSTAMP:20260422T124757
CREATED:20220427T191056Z
LAST-MODIFIED:20220427T191056Z
UID:3702-1654898400-1654903800@www.thiagojhonathan.com.br
SUMMARY:PALMEIRÓPOLIS-TO
DESCRIPTION:
URL:https://www.thiagojhonathan.com.br/event/palmeiropolis-to/
LOCATION:Praça Pública
CATEGORIES:Agenda Shows
END:VEVENT
BEGIN:VEVENT
DTSTART;TZID=America/Sao_Paulo:20220611T220000
DTEND;TZID=America/Sao_Paulo:20220611T233000
DTSTAMP:20260422T124757
CREATED:20220427T191829Z
LAST-MODIFIED:20220427T191829Z
UID:3704-1654984800-1654990200@www.thiagojhonathan.com.br
SUMMARY:PINDORAMA DO TOCANTINS-TO
DESCRIPTION:
URL:https://www.thiagojhonathan.com.br/event/pindorama-do-tocantins-to/
LOCATION:Praça Pública
CATEGORIES:Agenda Shows
END:VEVENT
BEGIN:VEVENT
DTSTART;TZID=America/Sao_Paulo:20220612T220000
DTEND;TZID=America/Sao_Paulo:20220612T233000
DTSTAMP:20260422T124757
CREATED:20220427T192250Z
LAST-MODIFIED:20220427T192250Z
UID:3706-1655071200-1655076600@www.thiagojhonathan.com.br
SUMMARY:SERRA DO RAMALHO-BA
DESCRIPTION:
URL:https://www.thiagojhonathan.com.br/event/serra-do-ramalho-ba/
LOCATION:Praça Pública
CATEGORIES:Agenda Shows
END:VEVENT
BEGIN:VEVENT
DTSTART;TZID=America/Sao_Paulo:20220615T223000
DTEND;TZID=America/Sao_Paulo:20220615T233000
DTSTAMP:20260422T124757
CREATED:20220602T210342Z
LAST-MODIFIED:20220602T210342Z
UID:3754-1655332200-1655335800@www.thiagojhonathan.com.br
SUMMARY:BARRO ALTO-GO
DESCRIPTION:
URL:https://www.thiagojhonathan.com.br/event/barro-alto-go/
LOCATION:Praça Pública
CATEGORIES:Agenda Shows
END:VEVENT
BEGIN:VEVENT
DTSTART;TZID=America/Sao_Paulo:20220616T220000
DTEND;TZID=America/Sao_Paulo:20220616T233000
DTSTAMP:20260422T124757
CREATED:20220401T231822Z
LAST-MODIFIED:20220401T231836Z
UID:3646-1655416800-1655422200@www.thiagojhonathan.com.br
SUMMARY:DIVINÓPOLIS DE GOIÁS-GO
DESCRIPTION:
URL:https://www.thiagojhonathan.com.br/event/divinopolis-de-gias-go/
LOCATION:Praça Pública
CATEGORIES:Agenda Shows
END:VEVENT
BEGIN:VEVENT
DTSTART;TZID=America/Sao_Paulo:20220618T220000
DTEND;TZID=America/Sao_Paulo:20220618T233000
DTSTAMP:20260422T124757
CREATED:20220427T192742Z
LAST-MODIFIED:20220427T192835Z
UID:3708-1655589600-1655595000@www.thiagojhonathan.com.br
SUMMARY:PAVÃO-MG
DESCRIPTION:
URL:https://www.thiagojhonathan.com.br/event/pavao-mg/
LOCATION:Praça Pública
CATEGORIES:Agenda Shows
END:VEVENT
BEGIN:VEVENT
DTSTART;TZID=America/Sao_Paulo:20220622T220000
DTEND;TZID=America/Sao_Paulo:20220622T233000
DTSTAMP:20260422T124757
CREATED:20220427T193029Z
LAST-MODIFIED:20220427T193638Z
UID:3710-1655935200-1655940600@www.thiagojhonathan.com.br
SUMMARY:CONCEIÇÃO DO MATO DENTRO-MG
DESCRIPTION:
URL:https://www.thiagojhonathan.com.br/event/conceicao-do-mato-dentro-mg-2/
LOCATION:Praça Pública
CATEGORIES:Agenda Shows
END:VEVENT
BEGIN:VEVENT
DTSTART;TZID=America/Sao_Paulo:20220624T220000
DTEND;TZID=America/Sao_Paulo:20220624T233000
DTSTAMP:20260422T124757
CREATED:20220401T232307Z
LAST-MODIFIED:20220401T232307Z
UID:3651-1656108000-1656113400@www.thiagojhonathan.com.br
SUMMARY:SANTA HELENA-MG
DESCRIPTION:
URL:https://www.thiagojhonathan.com.br/event/santa-helena-mg/
LOCATION:Praça Pública
CATEGORIES:Agenda Shows
END:VEVENT
BEGIN:VEVENT
DTSTART;TZID=America/Sao_Paulo:20220625T220000
DTEND;TZID=America/Sao_Paulo:20220625T233000
DTSTAMP:20260422T124757
CREATED:20220401T232134Z
LAST-MODIFIED:20220401T232208Z
UID:3649-1656194400-1656199800@www.thiagojhonathan.com.br
SUMMARY:FRONTEIRA DOS VALES-MG
DESCRIPTION:
URL:https://www.thiagojhonathan.com.br/event/fronteira-dos-vales-mg/
LOCATION:Praça Pública
CATEGORIES:Agenda Shows
END:VEVENT
BEGIN:VEVENT
DTSTART;TZID=America/Sao_Paulo:20220630T220000
DTEND;TZID=America/Sao_Paulo:20220630T233000
DTSTAMP:20260422T124757
CREATED:20220401T231716Z
LAST-MODIFIED:20220401T231716Z
UID:3644-1656626400-1656631800@www.thiagojhonathan.com.br
SUMMARY:SÃO PEDRO DO SUAÇUÍ-MG
DESCRIPTION:
URL:https://www.thiagojhonathan.com.br/event/sao-pedro-do-suacui-mg/
LOCATION:Praça Pública
CATEGORIES:Agenda Shows
END:VEVENT
BEGIN:VEVENT
DTSTART;TZID=America/Sao_Paulo:20220701T223000
DTEND;TZID=America/Sao_Paulo:20220701T233000
DTSTAMP:20260422T124757
CREATED:20220627T152840Z
LAST-MODIFIED:20220627T152840Z
UID:3783-1656714600-1656718200@www.thiagojhonathan.com.br
SUMMARY:BOCAIÚVA-MG
DESCRIPTION:
URL:https://www.thiagojhonathan.com.br/event/bocaiuva-mg/
LOCATION:Arena Clube
CATEGORIES:Agenda Shows
END:VEVENT
BEGIN:VEVENT
DTSTART;TZID=America/Sao_Paulo:20220702T220000
DTEND;TZID=America/Sao_Paulo:20220702T233000
DTSTAMP:20260422T124757
CREATED:20220427T194344Z
LAST-MODIFIED:20220427T194344Z
UID:3712-1656799200-1656804600@www.thiagojhonathan.com.br
SUMMARY:PINTÓPOLIS-MG
DESCRIPTION:
URL:https://www.thiagojhonathan.com.br/event/pintopolis-mg/
LOCATION:Praça Pública
CATEGORIES:Agenda Shows
END:VEVENT
BEGIN:VEVENT
DTSTART;TZID=America/Sao_Paulo:20220703T220000
DTEND;TZID=America/Sao_Paulo:20220703T233000
DTSTAMP:20260422T124757
CREATED:20220614T134308Z
LAST-MODIFIED:20220614T134308Z
UID:3762-1656885600-1656891000@www.thiagojhonathan.com.br
SUMMARY:INDAIABIRA-MG
DESCRIPTION:
URL:https://www.thiagojhonathan.com.br/event/indaiabira-mg/
LOCATION:Praça Pública
CATEGORIES:Agenda Shows
END:VEVENT
BEGIN:VEVENT
DTSTART;TZID=America/Sao_Paulo:20220708T220000
DTEND;TZID=America/Sao_Paulo:20220708T233000
DTSTAMP:20260422T124757
CREATED:20220427T194601Z
LAST-MODIFIED:20220427T194601Z
UID:3714-1657317600-1657323000@www.thiagojhonathan.com.br
SUMMARY:ALTA FLORESTA-MT
DESCRIPTION:
URL:https://www.thiagojhonathan.com.br/event/alta-floresta-mt-2/
LOCATION:Ctg
CATEGORIES:Agenda Shows
END:VEVENT
END:VCALENDAR