BEGIN:VCALENDAR
VERSION:2.0
PRODID:-//Thiago Jhonathan #TJ - Site Oficial - ECPv6.1.2.2//NONSGML v1.0//EN
CALSCALE:GREGORIAN
METHOD:PUBLISH
X-WR-CALNAME:Thiago Jhonathan #TJ - Site Oficial
X-ORIGINAL-URL:https://www.thiagojhonathan.com.br
X-WR-CALDESC:Eventos para Thiago Jhonathan #TJ - Site Oficial
REFRESH-INTERVAL;VALUE=DURATION:PT1H
X-Robots-Tag:noindex
X-PUBLISHED-TTL:PT1H
BEGIN:VTIMEZONE
TZID:America/Sao_Paulo
BEGIN:STANDARD
TZOFFSETFROM:-0300
TZOFFSETTO:-0300
TZNAME:-03
DTSTART:20230101T000000
END:STANDARD
END:VTIMEZONE
BEGIN:VEVENT
DTSTART;TZID=America/Sao_Paulo:20231222T220000
DTEND;TZID=America/Sao_Paulo:20231222T233000
DTSTAMP:20260420T001853
CREATED:20230818T173257Z
LAST-MODIFIED:20231124T144110Z
UID:4536-1703282400-1703287800@www.thiagojhonathan.com.br
SUMMARY:MONTES CLAROS-MG
DESCRIPTION:
URL:https://www.thiagojhonathan.com.br/event/ponto-dos-volantes-mg/
LOCATION:Vila Mix Club
CATEGORIES:Agenda Shows
END:VEVENT
BEGIN:VEVENT
DTSTART;TZID=America/Sao_Paulo:20231223T220000
DTEND;TZID=America/Sao_Paulo:20231223T233000
DTSTAMP:20260420T001853
CREATED:20231031T200407Z
LAST-MODIFIED:20231031T200407Z
UID:4738-1703368800-1703374200@www.thiagojhonathan.com.br
SUMMARY:LAGOA GRANDE-MG
DESCRIPTION:
URL:https://www.thiagojhonathan.com.br/event/lagoa-grande-mg-5/
LOCATION:Quadra Arena Brasil – Mun. De Minas Novas-MG
CATEGORIES:Agenda Shows
END:VEVENT
BEGIN:VEVENT
DTSTART;TZID=America/Sao_Paulo:20231224T220000
DTEND;TZID=America/Sao_Paulo:20231224T233000
DTSTAMP:20260420T001853
CREATED:20231031T200553Z
LAST-MODIFIED:20231031T200553Z
UID:4740-1703455200-1703460600@www.thiagojhonathan.com.br
SUMMARY:CHAPADA DO NORTE-MG
DESCRIPTION:
URL:https://www.thiagojhonathan.com.br/event/chapada-do-norte-mg/
LOCATION:Centro de Eventos
CATEGORIES:Agenda Shows
END:VEVENT
BEGIN:VEVENT
DTSTART;TZID=America/Sao_Paulo:20231225T080000
DTEND;TZID=America/Sao_Paulo:20231225T170000
DTSTAMP:20260420T001853
CREATED:20231031T201030Z
LAST-MODIFIED:20231031T201030Z
UID:4743-1703491200-1703523600@www.thiagojhonathan.com.br
SUMMARY:SÃO JOSÉ DO JACURI-MG
DESCRIPTION:
URL:https://www.thiagojhonathan.com.br/event/sao-jose-do-jacuri-mg/
LOCATION:Campo de Futebol/Dist. São Judas Tadeu de Tabatinga
CATEGORIES:Agenda Shows
END:VEVENT
BEGIN:VEVENT
DTSTART;TZID=America/Sao_Paulo:20231229T223000
DTEND;TZID=America/Sao_Paulo:20231229T233000
DTSTAMP:20260420T001853
CREATED:20231213T163206Z
LAST-MODIFIED:20231213T163206Z
UID:4815-1703889000-1703892600@www.thiagojhonathan.com.br
SUMMARY:SALINAS-MG
DESCRIPTION:
URL:https://www.thiagojhonathan.com.br/event/salinas-mg/
LOCATION:Sítio Eventos
CATEGORIES:Agenda Shows
END:VEVENT
BEGIN:VEVENT
DTSTART;TZID=America/Sao_Paulo:20231230T220000
DTEND;TZID=America/Sao_Paulo:20231230T233000
DTSTAMP:20260420T001853
CREATED:20230818T173128Z
LAST-MODIFIED:20231201T150110Z
UID:4534-1703973600-1703979000@www.thiagojhonathan.com.br
SUMMARY:CARAÍ-MG
DESCRIPTION:
URL:https://www.thiagojhonathan.com.br/event/carai-mg/
LOCATION:Praça Pública
CATEGORIES:Agenda Shows
END:VEVENT
BEGIN:VEVENT
DTSTART;TZID=America/Sao_Paulo:20231231T223000
DTEND;TZID=America/Sao_Paulo:20231231T233000
DTSTAMP:20260420T001853
CREATED:20231201T015605Z
LAST-MODIFIED:20231206T173706Z
UID:4804-1704061800-1704065400@www.thiagojhonathan.com.br
SUMMARY:INDAIABIRA-MG
DESCRIPTION:
URL:https://www.thiagojhonathan.com.br/event/minas-gerais-mg-10/
LOCATION:Praça Pública
CATEGORIES:Agenda Shows
END:VEVENT
BEGIN:VEVENT
DTSTART;TZID=America/Sao_Paulo:20240101T223000
DTEND;TZID=America/Sao_Paulo:20240101T233000
DTSTAMP:20260420T001853
CREATED:20231201T015730Z
LAST-MODIFIED:20231220T175846Z
UID:4806-1704148200-1704151800@www.thiagojhonathan.com.br
SUMMARY:VEREDINHA-MG
DESCRIPTION:
URL:https://www.thiagojhonathan.com.br/event/minas-gerais-mg-11/
LOCATION:Praça Pública
CATEGORIES:Agenda Shows
END:VEVENT
BEGIN:VEVENT
DTSTART;TZID=America/Sao_Paulo:20240113T220000
DTEND;TZID=America/Sao_Paulo:20240113T233000
DTSTAMP:20260420T001853
CREATED:20231220T184014Z
LAST-MODIFIED:20231220T184014Z
UID:4840-1705183200-1705188600@www.thiagojhonathan.com.br
SUMMARY:BOM JESUS DO ARAGUAIA-MT
DESCRIPTION:
URL:https://www.thiagojhonathan.com.br/event/bom-jesus-do-araguaia-mt-3/
LOCATION:Praça Pública/XXIV Festejo do Padroeiro São Sebastião
CATEGORIES:Agenda Shows
END:VEVENT
BEGIN:VEVENT
DTSTART;TZID=America/Sao_Paulo:20240119T220000
DTEND;TZID=America/Sao_Paulo:20240119T233000
DTSTAMP:20260420T001853
CREATED:20231229T201152Z
LAST-MODIFIED:20231229T201508Z
UID:4851-1705701600-1705707000@www.thiagojhonathan.com.br
SUMMARY:TABOCAS DO BREJO VELHO-BA
DESCRIPTION:
URL:https://www.thiagojhonathan.com.br/event/tabocas-do-brejo-velho-ba/
LOCATION:Praça Pública/Comunidade de Mariquita
CATEGORIES:Agenda Shows
END:VEVENT
BEGIN:VEVENT
DTSTART;TZID=America/Sao_Paulo:20240120T220000
DTEND;TZID=America/Sao_Paulo:20240120T233000
DTSTAMP:20260420T001853
CREATED:20231229T181737Z
LAST-MODIFIED:20231229T181737Z
UID:4848-1705788000-1705793400@www.thiagojhonathan.com.br
SUMMARY:NOVO CRUZEIRO-MG
DESCRIPTION:
URL:https://www.thiagojhonathan.com.br/event/novo-cruzeiro-mg-4/
LOCATION:Praça Pública
CATEGORIES:Agenda Shows
END:VEVENT
BEGIN:VEVENT
DTSTART;TZID=America/Sao_Paulo:20240121T220000
DTEND;TZID=America/Sao_Paulo:20240121T233000
DTSTAMP:20260420T001853
CREATED:20240113T210238Z
LAST-MODIFIED:20240113T210238Z
UID:4865-1705874400-1705879800@www.thiagojhonathan.com.br
SUMMARY:SÃO JOÃO EVANGELISTA-MG
DESCRIPTION:
URL:https://www.thiagojhonathan.com.br/event/sao-joao-evangelista-mg-2/
LOCATION:Parque de Exposição
CATEGORIES:Agenda Shows
END:VEVENT
BEGIN:VEVENT
DTSTART;TZID=America/Sao_Paulo:20240124T210000
DTEND;TZID=America/Sao_Paulo:20240124T220000
DTSTAMP:20260420T001853
CREATED:20231220T182316Z
LAST-MODIFIED:20231220T182316Z
UID:4819-1706130000-1706133600@www.thiagojhonathan.com.br
SUMMARY:VILA REMO-SP
DESCRIPTION:
URL:https://www.thiagojhonathan.com.br/event/vila-remo-sp-5/
LOCATION:Choperia do Peixoto
CATEGORIES:Agenda Shows
END:VEVENT
BEGIN:VEVENT
DTSTART;TZID=America/Sao_Paulo:20240124T223000
DTEND;TZID=America/Sao_Paulo:20240124T233000
DTSTAMP:20260420T001853
CREATED:20231220T182420Z
LAST-MODIFIED:20231220T182420Z
UID:4821-1706135400-1706139000@www.thiagojhonathan.com.br
SUMMARY:BELA VISTA-SP
DESCRIPTION:
URL:https://www.thiagojhonathan.com.br/event/bela-vista-sp-5/
LOCATION:Kibexiga Show
CATEGORIES:Agenda Shows
END:VEVENT
BEGIN:VEVENT
DTSTART;TZID=America/Sao_Paulo:20240125T210000
DTEND;TZID=America/Sao_Paulo:20240125T220000
DTSTAMP:20260420T001853
CREATED:20231220T182524Z
LAST-MODIFIED:20231220T182524Z
UID:4823-1706216400-1706220000@www.thiagojhonathan.com.br
SUMMARY:SANTOS-SP
DESCRIPTION:
URL:https://www.thiagojhonathan.com.br/event/santos-sp-2/
LOCATION:Mingo Show
CATEGORIES:Agenda Shows
END:VEVENT
BEGIN:VEVENT
DTSTART;TZID=America/Sao_Paulo:20240126T210000
DTEND;TZID=America/Sao_Paulo:20240126T220000
DTSTAMP:20260420T001853
CREATED:20231220T182721Z
LAST-MODIFIED:20231220T182721Z
UID:4827-1706302800-1706306400@www.thiagojhonathan.com.br
SUMMARY:POÁ-SP
DESCRIPTION:
URL:https://www.thiagojhonathan.com.br/event/poa-sp-3/
LOCATION:Lua de Mel
CATEGORIES:Agenda Shows
END:VEVENT
BEGIN:VEVENT
DTSTART;TZID=America/Sao_Paulo:20240126T223000
DTEND;TZID=America/Sao_Paulo:20240126T233000
DTSTAMP:20260420T001853
CREATED:20231220T182838Z
LAST-MODIFIED:20231220T182838Z
UID:4829-1706308200-1706311800@www.thiagojhonathan.com.br
SUMMARY:FRANCO DA ROCHA-SP
DESCRIPTION:
URL:https://www.thiagojhonathan.com.br/event/franco-da-rocha-sp-4/
LOCATION:Serra Talhada
CATEGORIES:Agenda Shows
END:VEVENT
BEGIN:VEVENT
DTSTART;TZID=America/Sao_Paulo:20240127T210000
DTEND;TZID=America/Sao_Paulo:20240127T220000
DTSTAMP:20260420T001853
CREATED:20231220T183044Z
LAST-MODIFIED:20231220T183044Z
UID:4831-1706389200-1706392800@www.thiagojhonathan.com.br
SUMMARY:VÁRZEA PAULISTA-SP
DESCRIPTION:
URL:https://www.thiagojhonathan.com.br/event/varzea-paulista-sp/
LOCATION:Led’s
CATEGORIES:Agenda Shows
END:VEVENT
BEGIN:VEVENT
DTSTART;TZID=America/Sao_Paulo:20240127T223000
DTEND;TZID=America/Sao_Paulo:20240127T233000
DTSTAMP:20260420T001853
CREATED:20231220T183156Z
LAST-MODIFIED:20231220T183156Z
UID:4834-1706394600-1706398200@www.thiagojhonathan.com.br
SUMMARY:LARGO DE SÃO MATEUS-SP
DESCRIPTION:
URL:https://www.thiagojhonathan.com.br/event/largo-de-sao-mateus-sp/
LOCATION:Mateo Bei Show
CATEGORIES:Agenda Shows
END:VEVENT
BEGIN:VEVENT
DTSTART;TZID=America/Sao_Paulo:20240128T200000
DTEND;TZID=America/Sao_Paulo:20240128T213000
DTSTAMP:20260420T001853
CREATED:20231220T183512Z
LAST-MODIFIED:20240122T125852Z
UID:4838-1706472000-1706477400@www.thiagojhonathan.com.br
SUMMARY:FRANCISCO MORATO-SP
DESCRIPTION:
URL:https://www.thiagojhonathan.com.br/event/sao-paulo-sp-50/
LOCATION:Rancho do Nilsinho
CATEGORIES:Agenda Shows
END:VEVENT
BEGIN:VEVENT
DTSTART;TZID=America/Sao_Paulo:20240128T210000
DTEND;TZID=America/Sao_Paulo:20240128T220000
DTSTAMP:20260420T001853
CREATED:20231220T183257Z
LAST-MODIFIED:20231220T183257Z
UID:4836-1706475600-1706479200@www.thiagojhonathan.com.br
SUMMARY:CAMPINAS-SP
DESCRIPTION:
URL:https://www.thiagojhonathan.com.br/event/campinas-sp-10/
LOCATION:Altas Horas
CATEGORIES:Agenda Shows
END:VEVENT
BEGIN:VEVENT
DTSTART;TZID=America/Sao_Paulo:20240202T220000
DTEND;TZID=America/Sao_Paulo:20240202T233000
DTSTAMP:20260420T001853
CREATED:20240123T202756Z
LAST-MODIFIED:20240123T202756Z
UID:4872-1706911200-1706916600@www.thiagojhonathan.com.br
SUMMARY:JATAÍ-GO
DESCRIPTION:
URL:https://www.thiagojhonathan.com.br/event/jatai-go-3/
LOCATION:Clube Rei do Gado
CATEGORIES:Agenda Shows
END:VEVENT
BEGIN:VEVENT
DTSTART;TZID=America/Sao_Paulo:20240203T220000
DTEND;TZID=America/Sao_Paulo:20240203T233000
DTSTAMP:20260420T001853
CREATED:20240109T204919Z
LAST-MODIFIED:20240109T204919Z
UID:4863-1706997600-1707003000@www.thiagojhonathan.com.br
SUMMARY:ITUMBIARA-GO
DESCRIPTION:
URL:https://www.thiagojhonathan.com.br/event/itumbiara-go-2/
LOCATION:Espaço Forró Brasil
CATEGORIES:Agenda Shows
END:VEVENT
BEGIN:VEVENT
DTSTART;TZID=America/Sao_Paulo:20240204T220000
DTEND;TZID=America/Sao_Paulo:20240204T233000
DTSTAMP:20260420T001853
CREATED:20231220T184153Z
LAST-MODIFIED:20231220T184153Z
UID:4843-1707084000-1707089400@www.thiagojhonathan.com.br
SUMMARY:ANÁPOLIS-GO
DESCRIPTION:
URL:https://www.thiagojhonathan.com.br/event/anapolis-go-11/
LOCATION:Cavalgada Amigos do Chapéu 7º Edição
CATEGORIES:Agenda Shows
END:VEVENT
BEGIN:VEVENT
DTSTART;TZID=America/Sao_Paulo:20240209T220000
DTEND;TZID=America/Sao_Paulo:20240209T233000
DTSTAMP:20260420T001853
CREATED:20240123T205257Z
LAST-MODIFIED:20240123T205257Z
UID:4880-1707516000-1707521400@www.thiagojhonathan.com.br
SUMMARY:LAJEADO-TO
DESCRIPTION:
URL:https://www.thiagojhonathan.com.br/event/lajeado-to/
LOCATION:Praça Pública
CATEGORIES:Agenda Shows
END:VEVENT
BEGIN:VEVENT
DTSTART;TZID=America/Sao_Paulo:20240210T220000
DTEND;TZID=America/Sao_Paulo:20240210T233000
DTSTAMP:20260420T001853
CREATED:20240103T185946Z
LAST-MODIFIED:20240205T162857Z
UID:4854-1707602400-1707607800@www.thiagojhonathan.com.br
SUMMARY:PIUM-TO
DESCRIPTION:
URL:https://www.thiagojhonathan.com.br/event/tocantins-to-19/
LOCATION:Carnapium 2024
CATEGORIES:Agenda Shows
END:VEVENT
BEGIN:VEVENT
DTSTART;TZID=America/Sao_Paulo:20240211T220000
DTEND;TZID=America/Sao_Paulo:20240211T233000
DTSTAMP:20260420T001853
CREATED:20240123T211035Z
LAST-MODIFIED:20240123T211035Z
UID:4882-1707688800-1707694200@www.thiagojhonathan.com.br
SUMMARY:TOCANTINS-TO
DESCRIPTION:
URL:https://www.thiagojhonathan.com.br/event/tocantins-to-21/
LOCATION:A Definir
CATEGORIES:Agenda Shows
END:VEVENT
BEGIN:VEVENT
DTSTART;TZID=America/Sao_Paulo:20240212T220000
DTEND;TZID=America/Sao_Paulo:20240212T233000
DTSTAMP:20260420T001853
CREATED:20240123T212415Z
LAST-MODIFIED:20240123T212415Z
UID:4884-1707775200-1707780600@www.thiagojhonathan.com.br
SUMMARY:TOCANTINS-TO
DESCRIPTION:
URL:https://www.thiagojhonathan.com.br/event/tocantins-to-22/
LOCATION:A Definir
CATEGORIES:Agenda Shows
END:VEVENT
BEGIN:VEVENT
DTSTART;TZID=America/Sao_Paulo:20240213T220000
DTEND;TZID=America/Sao_Paulo:20240213T233000
DTSTAMP:20260420T001853
CREATED:20240123T212514Z
LAST-MODIFIED:20240123T212514Z
UID:4886-1707861600-1707867000@www.thiagojhonathan.com.br
SUMMARY:TOCANTINS-TO
DESCRIPTION:
URL:https://www.thiagojhonathan.com.br/event/tocantins-to-23/
LOCATION:A Definir
CATEGORIES:Agenda Shows
END:VEVENT
BEGIN:VEVENT
DTSTART;TZID=America/Sao_Paulo:20240216T080000
DTEND;TZID=America/Sao_Paulo:20240216T170000
DTSTAMP:20260420T001853
CREATED:20240123T203004Z
LAST-MODIFIED:20240123T203004Z
UID:4874-1708070400-1708102800@www.thiagojhonathan.com.br
SUMMARY:RECESSO
DESCRIPTION:
URL:https://www.thiagojhonathan.com.br/event/recesso-4/
CATEGORIES:Agenda Shows
END:VEVENT
END:VCALENDAR