BEGIN:VCALENDAR
VERSION:2.0
PRODID:-//Thiago Jhonathan #TJ - Site Oficial - ECPv6.1.2.2//NONSGML v1.0//EN
CALSCALE:GREGORIAN
METHOD:PUBLISH
X-WR-CALNAME:Thiago Jhonathan #TJ - Site Oficial
X-ORIGINAL-URL:https://www.thiagojhonathan.com.br
X-WR-CALDESC:Eventos para Thiago Jhonathan #TJ - Site Oficial
REFRESH-INTERVAL;VALUE=DURATION:PT1H
X-Robots-Tag:noindex
X-PUBLISHED-TTL:PT1H
BEGIN:VTIMEZONE
TZID:America/Sao_Paulo
BEGIN:STANDARD
TZOFFSETFROM:-0300
TZOFFSETTO:-0300
TZNAME:-03
DTSTART:20230101T000000
END:STANDARD
END:VTIMEZONE
BEGIN:VEVENT
DTSTART;TZID=America/Sao_Paulo:20231110T210000
DTEND;TZID=America/Sao_Paulo:20231110T220000
DTSTAMP:20260421T145938
CREATED:20231031T173529Z
LAST-MODIFIED:20231031T173529Z
UID:4717-1699650000-1699653600@www.thiagojhonathan.com.br
SUMMARY:PLANALTINA-GO
DESCRIPTION:
URL:https://www.thiagojhonathan.com.br/event/planaltina-go-2/
LOCATION:Bendito Beer
CATEGORIES:Agenda Shows
END:VEVENT
BEGIN:VEVENT
DTSTART;TZID=America/Sao_Paulo:20231110T220000
DTEND;TZID=America/Sao_Paulo:20231110T233000
DTSTAMP:20260421T145938
CREATED:20231024T180410Z
LAST-MODIFIED:20231024T180410Z
UID:4708-1699653600-1699659000@www.thiagojhonathan.com.br
SUMMARY:FORMOSA-GO
DESCRIPTION:
URL:https://www.thiagojhonathan.com.br/event/formosa-go-3/
LOCATION:Ibiza
CATEGORIES:Agenda Shows
END:VEVENT
BEGIN:VEVENT
DTSTART;TZID=America/Sao_Paulo:20231111T220000
DTEND;TZID=America/Sao_Paulo:20231111T233000
DTSTAMP:20260421T145938
CREATED:20230818T172151Z
LAST-MODIFIED:20230818T172152Z
UID:4532-1699740000-1699745400@www.thiagojhonathan.com.br
SUMMARY:ALMAS-TO
DESCRIPTION:
URL:https://www.thiagojhonathan.com.br/event/almas-to-3/
LOCATION:Praça Pública
CATEGORIES:Agenda Shows
END:VEVENT
BEGIN:VEVENT
DTSTART;TZID=America/Sao_Paulo:20231114T210000
DTEND;TZID=America/Sao_Paulo:20231114T220000
DTSTAMP:20260421T145939
CREATED:20231024T181415Z
LAST-MODIFIED:20231024T181415Z
UID:4710-1699995600-1699999200@www.thiagojhonathan.com.br
SUMMARY:SÃO SEBASTIÃO-DF
DESCRIPTION:
URL:https://www.thiagojhonathan.com.br/event/sao-sebastiao-df-8/
LOCATION:Arena Top Show
CATEGORIES:Agenda Shows
END:VEVENT
BEGIN:VEVENT
DTSTART;TZID=America/Sao_Paulo:20231114T223000
DTEND;TZID=America/Sao_Paulo:20231114T233000
DTSTAMP:20260421T145939
CREATED:20231026T143513Z
LAST-MODIFIED:20231026T143513Z
UID:4712-1700001000-1700004600@www.thiagojhonathan.com.br
SUMMARY:CEILÂNDIA-DF
DESCRIPTION:
URL:https://www.thiagojhonathan.com.br/event/ceilandia-df-7/
LOCATION:La Casa
CATEGORIES:Agenda Shows
END:VEVENT
BEGIN:VEVENT
DTSTART;TZID=America/Sao_Paulo:20231117T210000
DTEND;TZID=America/Sao_Paulo:20231117T220000
DTSTAMP:20260421T145939
CREATED:20231031T195201Z
LAST-MODIFIED:20231103T135026Z
UID:4732-1700254800-1700258400@www.thiagojhonathan.com.br
SUMMARY:GOIÂNIA-GO
DESCRIPTION:
URL:https://www.thiagojhonathan.com.br/event/goiania-go-30/
LOCATION:Chácara do Japonês/Setor Sol Nascente
CATEGORIES:Agenda Shows
END:VEVENT
BEGIN:VEVENT
DTSTART;TZID=America/Sao_Paulo:20231117T223000
DTEND;TZID=America/Sao_Paulo:20231117T233000
DTSTAMP:20260421T145939
CREATED:20231101T160456Z
LAST-MODIFIED:20231103T135543Z
UID:4756-1700260200-1700263800@www.thiagojhonathan.com.br
SUMMARY:GOIÂNIA-GO
DESCRIPTION:
URL:https://www.thiagojhonathan.com.br/event/goiania-go-33/
LOCATION:A Sertaneja/Jardim Novo Mundo
CATEGORIES:Agenda Shows
END:VEVENT
BEGIN:VEVENT
DTSTART;TZID=America/Sao_Paulo:20231118T223000
DTEND;TZID=America/Sao_Paulo:20231118T233000
DTSTAMP:20260421T145939
CREATED:20231031T195317Z
LAST-MODIFIED:20231101T160832Z
UID:4734-1700346600-1700350200@www.thiagojhonathan.com.br
SUMMARY:RIO VERDE-GO
DESCRIPTION:
URL:https://www.thiagojhonathan.com.br/event/goiania-go-31/
LOCATION:Exclusive
CATEGORIES:Agenda Shows
END:VEVENT
BEGIN:VEVENT
DTSTART;TZID=America/Sao_Paulo:20231119T210000
DTEND;TZID=America/Sao_Paulo:20231119T220000
DTSTAMP:20260421T145939
CREATED:20231031T195437Z
LAST-MODIFIED:20231101T161148Z
UID:4736-1700427600-1700431200@www.thiagojhonathan.com.br
SUMMARY:APARECIDA DE GOIÂNIA-GO
DESCRIPTION:
URL:https://www.thiagojhonathan.com.br/event/goiania-go-32/
LOCATION:Ranchão Bar/Antigo Bar com Peixe Karaokê
CATEGORIES:Agenda Shows
END:VEVENT
BEGIN:VEVENT
DTSTART;TZID=America/Sao_Paulo:20231119T223000
DTEND;TZID=America/Sao_Paulo:20231119T233000
DTSTAMP:20260421T145939
CREATED:20231101T161344Z
LAST-MODIFIED:20231101T161344Z
UID:4763-1700433000-1700436600@www.thiagojhonathan.com.br
SUMMARY:GOIÂNIA-GO
DESCRIPTION:
URL:https://www.thiagojhonathan.com.br/event/goiania-go-34/
LOCATION:Máster House/Setor Santos Dumont
CATEGORIES:Agenda Shows
END:VEVENT
BEGIN:VEVENT
DTSTART;TZID=America/Sao_Paulo:20231124T210000
DTEND;TZID=America/Sao_Paulo:20231124T220000
DTSTAMP:20260421T145939
CREATED:20231031T194157Z
LAST-MODIFIED:20231103T130440Z
UID:4720-1700859600-1700863200@www.thiagojhonathan.com.br
SUMMARY:INAJAR DE SOUZA-SP
DESCRIPTION:
URL:https://www.thiagojhonathan.com.br/event/sao-paulo-sp-43/
LOCATION:Restaurante Feijão de Corda
CATEGORIES:Agenda Shows
END:VEVENT
BEGIN:VEVENT
DTSTART;TZID=America/Sao_Paulo:20231124T223000
DTEND;TZID=America/Sao_Paulo:20231124T233000
DTSTAMP:20260421T145939
CREATED:20231031T194245Z
LAST-MODIFIED:20231101T150312Z
UID:4722-1700865000-1700868600@www.thiagojhonathan.com.br
SUMMARY:PRAÇA DA ÁRVORE-SP
DESCRIPTION:
URL:https://www.thiagojhonathan.com.br/event/sao-paulo-sp-44/
LOCATION:Recanto Gaúcho
CATEGORIES:Agenda Shows
END:VEVENT
BEGIN:VEVENT
DTSTART;TZID=America/Sao_Paulo:20231125T210000
DTEND;TZID=America/Sao_Paulo:20231125T220000
DTSTAMP:20260421T145939
CREATED:20231031T194335Z
LAST-MODIFIED:20231101T150526Z
UID:4724-1700946000-1700949600@www.thiagojhonathan.com.br
SUMMARY:COTIA-SP
DESCRIPTION:
URL:https://www.thiagojhonathan.com.br/event/sao-paulo-sp-45/
LOCATION:Gandaya Show
CATEGORIES:Agenda Shows
END:VEVENT
BEGIN:VEVENT
DTSTART;TZID=America/Sao_Paulo:20231125T223000
DTEND;TZID=America/Sao_Paulo:20231125T233000
DTSTAMP:20260421T145939
CREATED:20231031T194422Z
LAST-MODIFIED:20231101T150721Z
UID:4726-1700951400-1700955000@www.thiagojhonathan.com.br
SUMMARY:JARDIM SÃO LUIZ-SP
DESCRIPTION:
URL:https://www.thiagojhonathan.com.br/event/sao-paulo-sp-46/
LOCATION:Choperia Mil Grau
CATEGORIES:Agenda Shows
END:VEVENT
BEGIN:VEVENT
DTSTART;TZID=America/Sao_Paulo:20231126T210000
DTEND;TZID=America/Sao_Paulo:20231126T220000
DTSTAMP:20260421T145939
CREATED:20231031T194919Z
LAST-MODIFIED:20231101T185603Z
UID:4730-1701032400-1701036000@www.thiagojhonathan.com.br
SUMMARY:GUAIANAZES-SP
DESCRIPTION:
URL:https://www.thiagojhonathan.com.br/event/sao-paulo-sp-48/
LOCATION:Beira Rio Show
CATEGORIES:Agenda Shows
END:VEVENT
BEGIN:VEVENT
DTSTART;TZID=America/Sao_Paulo:20231126T223000
DTEND;TZID=America/Sao_Paulo:20231126T233000
DTSTAMP:20260421T145939
CREATED:20231031T194803Z
LAST-MODIFIED:20231101T185441Z
UID:4728-1701037800-1701041400@www.thiagojhonathan.com.br
SUMMARY:GUARULHOS-SP
DESCRIPTION:
URL:https://www.thiagojhonathan.com.br/event/sao-paulo-sp-47/
LOCATION:Rancho Sertanejo
CATEGORIES:Agenda Shows
END:VEVENT
BEGIN:VEVENT
DTSTART;TZID=America/Sao_Paulo:20231201T220000
DTEND;TZID=America/Sao_Paulo:20231201T233000
DTSTAMP:20260421T145939
CREATED:20231017T141617Z
LAST-MODIFIED:20231026T160043Z
UID:4702-1701468000-1701473400@www.thiagojhonathan.com.br
SUMMARY:UBERLÂNDIA-MG
DESCRIPTION:
URL:https://www.thiagojhonathan.com.br/event/uberlandia-go/
LOCATION:Fazendão shows
CATEGORIES:Agenda Shows
END:VEVENT
BEGIN:VEVENT
DTSTART;TZID=America/Sao_Paulo:20231202T220000
DTEND;TZID=America/Sao_Paulo:20231202T233000
DTSTAMP:20260421T145939
CREATED:20231017T141826Z
LAST-MODIFIED:20231017T141826Z
UID:4704-1701554400-1701559800@www.thiagojhonathan.com.br
SUMMARY:CATALÃO-GO
DESCRIPTION:
URL:https://www.thiagojhonathan.com.br/event/catalao-go-3/
LOCATION:Fogão de Lenha Show
CATEGORIES:Agenda Shows
END:VEVENT
BEGIN:VEVENT
DTSTART;TZID=America/Sao_Paulo:20231208T220000
DTEND;TZID=America/Sao_Paulo:20231208T233000
DTSTAMP:20260421T145939
CREATED:20231101T180433Z
LAST-MODIFIED:20231101T180433Z
UID:4766-1702072800-1702078200@www.thiagojhonathan.com.br
SUMMARY:CONTAGEM-MG
DESCRIPTION:
URL:https://www.thiagojhonathan.com.br/event/contagem-mg-13/
LOCATION:New Texas 5
CATEGORIES:Agenda Shows
END:VEVENT
BEGIN:VEVENT
DTSTART;TZID=America/Sao_Paulo:20231209T220000
DTEND;TZID=America/Sao_Paulo:20231209T233000
DTSTAMP:20260421T145939
CREATED:20231101T180935Z
LAST-MODIFIED:20231101T180935Z
UID:4768-1702159200-1702164600@www.thiagojhonathan.com.br
SUMMARY:NOVA SERRANA-MG
DESCRIPTION:
URL:https://www.thiagojhonathan.com.br/event/nova-serrana-mg-2/
LOCATION:Baia dos Veredas
CATEGORIES:Agenda Shows
END:VEVENT
BEGIN:VEVENT
DTSTART;TZID=America/Sao_Paulo:20231215T210000
DTEND;TZID=America/Sao_Paulo:20231215T220000
DTSTAMP:20260421T145939
CREATED:20231201T014244Z
LAST-MODIFIED:20231201T014244Z
UID:4791-1702674000-1702677600@www.thiagojhonathan.com.br
SUMMARY:PAULÍNIA-SP
DESCRIPTION:
URL:https://www.thiagojhonathan.com.br/event/paulinia-sp-3/
LOCATION:Pesqueiro Bonanza
CATEGORIES:Agenda Shows
END:VEVENT
BEGIN:VEVENT
DTSTART;TZID=America/Sao_Paulo:20231215T223000
DTEND;TZID=America/Sao_Paulo:20231215T233000
DTSTAMP:20260421T145939
CREATED:20231201T014415Z
LAST-MODIFIED:20231201T015119Z
UID:4794-1702679400-1702683000@www.thiagojhonathan.com.br
SUMMARY:COSMÓPOLIS-SP
DESCRIPTION:
URL:https://www.thiagojhonathan.com.br/event/cosmopolis-sp/
LOCATION:Pesqueiro do Bodinho
CATEGORIES:Agenda Shows
END:VEVENT
BEGIN:VEVENT
DTSTART;TZID=America/Sao_Paulo:20231216T220000
DTEND;TZID=America/Sao_Paulo:20231216T233000
DTSTAMP:20260421T145939
CREATED:20231013T222534Z
LAST-MODIFIED:20231101T183502Z
UID:4700-1702764000-1702769400@www.thiagojhonathan.com.br
SUMMARY:SETE BARRAS-SP
DESCRIPTION:
URL:https://www.thiagojhonathan.com.br/event/sao-paulo-sp-42/
LOCATION:20º Expor Banana
CATEGORIES:Agenda Shows
END:VEVENT
BEGIN:VEVENT
DTSTART;TZID=America/Sao_Paulo:20231217T210000
DTEND;TZID=America/Sao_Paulo:20231217T220000
DTSTAMP:20260421T145939
CREATED:20231201T014724Z
LAST-MODIFIED:20231201T014724Z
UID:4797-1702846800-1702850400@www.thiagojhonathan.com.br
SUMMARY:RIO CLARO-SP
DESCRIPTION:
URL:https://www.thiagojhonathan.com.br/event/rio-claro-sp/
LOCATION:Bailão do Ananias
CATEGORIES:Agenda Shows
END:VEVENT
BEGIN:VEVENT
DTSTART;TZID=America/Sao_Paulo:20231222T220000
DTEND;TZID=America/Sao_Paulo:20231222T233000
DTSTAMP:20260421T145939
CREATED:20230818T173257Z
LAST-MODIFIED:20231124T144110Z
UID:4536-1703282400-1703287800@www.thiagojhonathan.com.br
SUMMARY:MONTES CLAROS-MG
DESCRIPTION:
URL:https://www.thiagojhonathan.com.br/event/ponto-dos-volantes-mg/
LOCATION:Vila Mix Club
CATEGORIES:Agenda Shows
END:VEVENT
BEGIN:VEVENT
DTSTART;TZID=America/Sao_Paulo:20231223T220000
DTEND;TZID=America/Sao_Paulo:20231223T233000
DTSTAMP:20260421T145939
CREATED:20231031T200407Z
LAST-MODIFIED:20231031T200407Z
UID:4738-1703368800-1703374200@www.thiagojhonathan.com.br
SUMMARY:LAGOA GRANDE-MG
DESCRIPTION:
URL:https://www.thiagojhonathan.com.br/event/lagoa-grande-mg-5/
LOCATION:Quadra Arena Brasil – Mun. De Minas Novas-MG
CATEGORIES:Agenda Shows
END:VEVENT
BEGIN:VEVENT
DTSTART;TZID=America/Sao_Paulo:20231224T220000
DTEND;TZID=America/Sao_Paulo:20231224T233000
DTSTAMP:20260421T145939
CREATED:20231031T200553Z
LAST-MODIFIED:20231031T200553Z
UID:4740-1703455200-1703460600@www.thiagojhonathan.com.br
SUMMARY:CHAPADA DO NORTE-MG
DESCRIPTION:
URL:https://www.thiagojhonathan.com.br/event/chapada-do-norte-mg/
LOCATION:Centro de Eventos
CATEGORIES:Agenda Shows
END:VEVENT
BEGIN:VEVENT
DTSTART;TZID=America/Sao_Paulo:20231225T080000
DTEND;TZID=America/Sao_Paulo:20231225T170000
DTSTAMP:20260421T145939
CREATED:20231031T201030Z
LAST-MODIFIED:20231031T201030Z
UID:4743-1703491200-1703523600@www.thiagojhonathan.com.br
SUMMARY:SÃO JOSÉ DO JACURI-MG
DESCRIPTION:
URL:https://www.thiagojhonathan.com.br/event/sao-jose-do-jacuri-mg/
LOCATION:Campo de Futebol/Dist. São Judas Tadeu de Tabatinga
CATEGORIES:Agenda Shows
END:VEVENT
BEGIN:VEVENT
DTSTART;TZID=America/Sao_Paulo:20231229T223000
DTEND;TZID=America/Sao_Paulo:20231229T233000
DTSTAMP:20260421T145939
CREATED:20231213T163206Z
LAST-MODIFIED:20231213T163206Z
UID:4815-1703889000-1703892600@www.thiagojhonathan.com.br
SUMMARY:SALINAS-MG
DESCRIPTION:
URL:https://www.thiagojhonathan.com.br/event/salinas-mg/
LOCATION:Sítio Eventos
CATEGORIES:Agenda Shows
END:VEVENT
BEGIN:VEVENT
DTSTART;TZID=America/Sao_Paulo:20231230T220000
DTEND;TZID=America/Sao_Paulo:20231230T233000
DTSTAMP:20260421T145939
CREATED:20230818T173128Z
LAST-MODIFIED:20231201T150110Z
UID:4534-1703973600-1703979000@www.thiagojhonathan.com.br
SUMMARY:CARAÍ-MG
DESCRIPTION:
URL:https://www.thiagojhonathan.com.br/event/carai-mg/
LOCATION:Praça Pública
CATEGORIES:Agenda Shows
END:VEVENT
END:VCALENDAR