BEGIN:VCALENDAR
VERSION:2.0
PRODID:-//Thiago Jhonathan #TJ - Site Oficial - ECPv6.1.2.2//NONSGML v1.0//EN
CALSCALE:GREGORIAN
METHOD:PUBLISH
X-WR-CALNAME:Thiago Jhonathan #TJ - Site Oficial
X-ORIGINAL-URL:https://www.thiagojhonathan.com.br
X-WR-CALDESC:Eventos para Thiago Jhonathan #TJ - Site Oficial
REFRESH-INTERVAL;VALUE=DURATION:PT1H
X-Robots-Tag:noindex
X-PUBLISHED-TTL:PT1H
BEGIN:VTIMEZONE
TZID:America/Sao_Paulo
BEGIN:STANDARD
TZOFFSETFROM:-0300
TZOFFSETTO:-0300
TZNAME:-03
DTSTART:20230101T000000
END:STANDARD
END:VTIMEZONE
BEGIN:VEVENT
DTSTART;TZID=America/Sao_Paulo:20230509T220000
DTEND;TZID=America/Sao_Paulo:20230509T233000
DTSTAMP:20260421T221327
CREATED:20230410T130912Z
LAST-MODIFIED:20230505T172149Z
UID:4293-1683669600-1683675000@www.thiagojhonathan.com.br
SUMMARY:BOM JARDIM-MUN. DE PACAJÁ-PA
DESCRIPTION:
URL:https://www.thiagojhonathan.com.br/event/pacaja-dist-bom-jardim-pa/
LOCATION:Praça Pública/Aniverário da Cidade
CATEGORIES:Agenda Shows
END:VEVENT
BEGIN:VEVENT
DTSTART;TZID=America/Sao_Paulo:20230511T220000
DTEND;TZID=America/Sao_Paulo:20230511T233000
DTSTAMP:20260421T221327
CREATED:20230420T172753Z
LAST-MODIFIED:20230505T172656Z
UID:4318-1683842400-1683847800@www.thiagojhonathan.com.br
SUMMARY:COCALINHO-MT
DESCRIPTION:
URL:https://www.thiagojhonathan.com.br/event/cocalinho-mt/
LOCATION:Praça Pública/Aniverário da Cidade
CATEGORIES:Agenda Shows
END:VEVENT
BEGIN:VEVENT
DTSTART;TZID=America/Sao_Paulo:20230512T220000
DTEND;TZID=America/Sao_Paulo:20230512T233000
DTSTAMP:20260421T221327
CREATED:20230420T172109Z
LAST-MODIFIED:20230505T171414Z
UID:4311-1683928800-1683934200@www.thiagojhonathan.com.br
SUMMARY:FÁTIMA-TO
DESCRIPTION:
URL:https://www.thiagojhonathan.com.br/event/tocantins-to-7/
LOCATION:Praça Pública/Aniverário da Cidade
CATEGORIES:Agenda Shows
END:VEVENT
BEGIN:VEVENT
DTSTART;TZID=America/Sao_Paulo:20230513T220000
DTEND;TZID=America/Sao_Paulo:20230513T233000
DTSTAMP:20260421T221327
CREATED:20230327T131626Z
LAST-MODIFIED:20230327T131626Z
UID:4253-1684015200-1684020600@www.thiagojhonathan.com.br
SUMMARY:LAVANDEIRA-TO
DESCRIPTION:
URL:https://www.thiagojhonathan.com.br/event/lavandeira-to-2/
LOCATION:Praça Pública
CATEGORIES:Agenda Shows
END:VEVENT
BEGIN:VEVENT
DTSTART;TZID=America/Sao_Paulo:20230514T220000
DTEND;TZID=America/Sao_Paulo:20230514T233000
DTSTAMP:20260421T221327
CREATED:20230420T172317Z
LAST-MODIFIED:20230505T172347Z
UID:4316-1684101600-1684107000@www.thiagojhonathan.com.br
SUMMARY:COLMÉIA-TO
DESCRIPTION:
URL:https://www.thiagojhonathan.com.br/event/tocantins-to-9/
LOCATION:Praça Pública/Expocolméia
CATEGORIES:Agenda Shows
END:VEVENT
BEGIN:VEVENT
DTSTART;TZID=America/Sao_Paulo:20230519T220000
DTEND;TZID=America/Sao_Paulo:20230519T233000
DTSTAMP:20260421T221327
CREATED:20230428T234021Z
LAST-MODIFIED:20230428T234021Z
UID:4342-1684533600-1684539000@www.thiagojhonathan.com.br
SUMMARY:JOÃO PINHEIRO-MG
DESCRIPTION:
URL:https://www.thiagojhonathan.com.br/event/joao-pinheiro-mg/
LOCATION:Espaço Riviera
CATEGORIES:Agenda Shows
END:VEVENT
BEGIN:VEVENT
DTSTART;TZID=America/Sao_Paulo:20230520T220000
DTEND;TZID=America/Sao_Paulo:20230520T233000
DTSTAMP:20260421T221327
CREATED:20230420T171350Z
LAST-MODIFIED:20230420T171350Z
UID:4309-1684620000-1684625400@www.thiagojhonathan.com.br
SUMMARY:MATIAS CARDOSO-MG
DESCRIPTION:
URL:https://www.thiagojhonathan.com.br/event/matias-cardoso-mg/
LOCATION:Praça Pública
CATEGORIES:Agenda Shows
END:VEVENT
BEGIN:VEVENT
DTSTART;TZID=America/Sao_Paulo:20230525T220000
DTEND;TZID=America/Sao_Paulo:20230525T233000
DTSTAMP:20260421T221327
CREATED:20230406T140125Z
LAST-MODIFIED:20230406T140125Z
UID:4290-1685052000-1685057400@www.thiagojhonathan.com.br
SUMMARY:SÃO JOSÉ DO XINGU-MT
DESCRIPTION:
URL:https://www.thiagojhonathan.com.br/event/sao-jose-do-xingu-mt/
LOCATION:Praça Pública
CATEGORIES:Agenda Shows
END:VEVENT
BEGIN:VEVENT
DTSTART;TZID=America/Sao_Paulo:20230526T220000
DTEND;TZID=America/Sao_Paulo:20230526T233000
DTSTAMP:20260421T221327
CREATED:20230505T170052Z
LAST-MODIFIED:20230508T114753Z
UID:4351-1685138400-1685143800@www.thiagojhonathan.com.br
SUMMARY:REDENÇÃO-PA
DESCRIPTION:
URL:https://www.thiagojhonathan.com.br/event/redencao-pa-3/
LOCATION:Parque Izidório Junior
CATEGORIES:Agenda Shows
END:VEVENT
BEGIN:VEVENT
DTSTART;TZID=America/Sao_Paulo:20230527T220000
DTEND;TZID=America/Sao_Paulo:20230527T233000
DTSTAMP:20260421T221327
CREATED:20230420T175721Z
LAST-MODIFIED:20230505T171455Z
UID:4331-1685224800-1685230200@www.thiagojhonathan.com.br
SUMMARY:PEDRO AFONSO-TO
DESCRIPTION:
URL:https://www.thiagojhonathan.com.br/event/pedro-afonso-to/
LOCATION:Praça Pública/Festa do trabalhador
CATEGORIES:Agenda Shows
END:VEVENT
BEGIN:VEVENT
DTSTART;TZID=America/Sao_Paulo:20230528T220000
DTEND;TZID=America/Sao_Paulo:20230528T233000
DTSTAMP:20260421T221327
CREATED:20230503T194824Z
LAST-MODIFIED:20230504T205946Z
UID:4347-1685311200-1685316600@www.thiagojhonathan.com.br
SUMMARY:JARAGUÁ-GO
DESCRIPTION:
URL:https://www.thiagojhonathan.com.br/event/jaragua-go-3/
LOCATION:Clube das Cavalhadas
CATEGORIES:Agenda Shows
END:VEVENT
BEGIN:VEVENT
DTSTART;TZID=America/Sao_Paulo:20230603T220000
DTEND;TZID=America/Sao_Paulo:20230603T233000
DTSTAMP:20260421T221327
CREATED:20230510T121058Z
LAST-MODIFIED:20230510T121058Z
UID:4359-1685829600-1685835000@www.thiagojhonathan.com.br
SUMMARY:PARAÍSO DO TOCANTINS-TO
DESCRIPTION:
URL:https://www.thiagojhonathan.com.br/event/paraiso-do-tocantins-to/
LOCATION:Expobrasil
CATEGORIES:Agenda Shows
END:VEVENT
BEGIN:VEVENT
DTSTART;TZID=America/Sao_Paulo:20230607T220000
DTEND;TZID=America/Sao_Paulo:20230607T233000
DTSTAMP:20260421T221327
CREATED:20230605T143616Z
LAST-MODIFIED:20230605T143616Z
UID:4422-1686175200-1686180600@www.thiagojhonathan.com.br
SUMMARY:FORMOSA-GO
DESCRIPTION:
URL:https://www.thiagojhonathan.com.br/event/formosa-go-2/
LOCATION:Forrozão do Ibiza
CATEGORIES:Agenda Shows
END:VEVENT
BEGIN:VEVENT
DTSTART;TZID=America/Sao_Paulo:20230608T220000
DTEND;TZID=America/Sao_Paulo:20230608T233000
DTSTAMP:20260421T221327
CREATED:20230420T173552Z
LAST-MODIFIED:20230531T195855Z
UID:4322-1686261600-1686267000@www.thiagojhonathan.com.br
SUMMARY:BRASILÂNDIA DE MINAS-MG
DESCRIPTION:
URL:https://www.thiagojhonathan.com.br/event/brasilandia-de-minas-mg/
LOCATION:Praça Pública
CATEGORIES:Agenda Shows
END:VEVENT
BEGIN:VEVENT
DTSTART;TZID=America/Sao_Paulo:20230609T220000
DTEND;TZID=America/Sao_Paulo:20230609T233000
DTSTAMP:20260421T221327
CREATED:20230420T173936Z
LAST-MODIFIED:20230420T173936Z
UID:4324-1686348000-1686353400@www.thiagojhonathan.com.br
SUMMARY:SABINÓPOLIS-MG
DESCRIPTION:
URL:https://www.thiagojhonathan.com.br/event/sabinopolis-mg/
LOCATION:Praça Pública
CATEGORIES:Agenda Shows
END:VEVENT
BEGIN:VEVENT
DTSTART;TZID=America/Sao_Paulo:20230610T203000
DTEND;TZID=America/Sao_Paulo:20230610T213000
DTSTAMP:20260421T221327
CREATED:20230531T194639Z
LAST-MODIFIED:20230605T143802Z
UID:4363-1686429000-1686432600@www.thiagojhonathan.com.br
SUMMARY:NOVORIZONTE-MG
DESCRIPTION:
URL:https://www.thiagojhonathan.com.br/event/novorizonte-mg/
LOCATION:Comemoração dia dos Namorados
CATEGORIES:Agenda Shows
END:VEVENT
BEGIN:VEVENT
DTSTART;TZID=America/Sao_Paulo:20230610T223000
DTEND;TZID=America/Sao_Paulo:20230610T233000
DTSTAMP:20260421T221327
CREATED:20230531T194804Z
LAST-MODIFIED:20230531T194804Z
UID:4365-1686436200-1686439800@www.thiagojhonathan.com.br
SUMMARY:RIO PARDO DE MINAS-MG
DESCRIPTION:
URL:https://www.thiagojhonathan.com.br/event/rio-pardo-de-minas-mg-3/
LOCATION:Sítio do Alex
CATEGORIES:Agenda Shows
END:VEVENT
BEGIN:VEVENT
DTSTART;TZID=America/Sao_Paulo:20230611T220000
DTEND;TZID=America/Sao_Paulo:20230611T233000
DTSTAMP:20260421T221327
CREATED:20230531T200041Z
LAST-MODIFIED:20230531T200041Z
UID:4367-1686520800-1686526200@www.thiagojhonathan.com.br
SUMMARY:A DEFINIR
DESCRIPTION:
URL:https://www.thiagojhonathan.com.br/event/a-definir-45/
CATEGORIES:Agenda Shows
END:VEVENT
BEGIN:VEVENT
DTSTART;TZID=America/Sao_Paulo:20230615T220000
DTEND;TZID=America/Sao_Paulo:20230615T233000
DTSTAMP:20260421T221327
CREATED:20230327T132250Z
LAST-MODIFIED:20230327T132250Z
UID:4255-1686866400-1686871800@www.thiagojhonathan.com.br
SUMMARY:IACIARA-GO
DESCRIPTION:
URL:https://www.thiagojhonathan.com.br/event/iaciara-go-2/
LOCATION:Parque de Exposições
CATEGORIES:Agenda Shows
END:VEVENT
BEGIN:VEVENT
DTSTART;TZID=America/Sao_Paulo:20230616T220000
DTEND;TZID=America/Sao_Paulo:20230616T233000
DTSTAMP:20260421T221327
CREATED:20230420T173134Z
LAST-MODIFIED:20230420T182429Z
UID:4320-1686952800-1686958200@www.thiagojhonathan.com.br
SUMMARY:RIO DA CONCEIÇÃO-TO
DESCRIPTION:
URL:https://www.thiagojhonathan.com.br/event/rio-da-conceicao-to/
LOCATION:Praça Pública
CATEGORIES:Agenda Shows
END:VEVENT
BEGIN:VEVENT
DTSTART;TZID=America/Sao_Paulo:20230617T080000
DTEND;TZID=America/Sao_Paulo:20230617T170000
DTSTAMP:20260421T221327
CREATED:20230531T201023Z
LAST-MODIFIED:20230531T201023Z
UID:4369-1686988800-1687021200@www.thiagojhonathan.com.br
SUMMARY:LAGOA DO TOCANTINS-TO
DESCRIPTION:
URL:https://www.thiagojhonathan.com.br/event/lagoa-do-tocantins-to/
LOCATION:Praça Pública
CATEGORIES:Agenda Shows
END:VEVENT
BEGIN:VEVENT
DTSTART;TZID=America/Sao_Paulo:20230622T220000
DTEND;TZID=America/Sao_Paulo:20230622T233000
DTSTAMP:20260421T221327
CREATED:20230327T140022Z
LAST-MODIFIED:20230327T140022Z
UID:4257-1687471200-1687476600@www.thiagojhonathan.com.br
SUMMARY:GOIANÉSIA-GO
DESCRIPTION:
URL:https://www.thiagojhonathan.com.br/event/goianesia-go-3/
LOCATION:Expoagro
CATEGORIES:Agenda Shows
END:VEVENT
BEGIN:VEVENT
DTSTART;TZID=America/Sao_Paulo:20230623T220000
DTEND;TZID=America/Sao_Paulo:20230623T233000
DTSTAMP:20260421T221327
CREATED:20230601T174254Z
LAST-MODIFIED:20230615T155646Z
UID:4407-1687557600-1687563000@www.thiagojhonathan.com.br
SUMMARY:PALMAS-TO
DESCRIPTION:
URL:https://www.thiagojhonathan.com.br/event/a-definir-47/
LOCATION:Arráia da Capital
CATEGORIES:Agenda Shows
END:VEVENT
BEGIN:VEVENT
DTSTART;TZID=America/Sao_Paulo:20230624T220000
DTEND;TZID=America/Sao_Paulo:20230624T233000
DTSTAMP:20260421T221327
CREATED:20230531T202513Z
LAST-MODIFIED:20230615T161008Z
UID:4371-1687644000-1687649400@www.thiagojhonathan.com.br
SUMMARY:BOQUIRA-BA
DESCRIPTION:
URL:https://www.thiagojhonathan.com.br/event/boquira-ba-2/
LOCATION:Praça Pública
CATEGORIES:Agenda Shows
END:VEVENT
BEGIN:VEVENT
DTSTART;TZID=America/Sao_Paulo:20230629T220000
DTEND;TZID=America/Sao_Paulo:20230629T233000
DTSTAMP:20260421T221327
CREATED:20230601T174919Z
LAST-MODIFIED:20230617T193320Z
UID:4413-1688076000-1688081400@www.thiagojhonathan.com.br
SUMMARY:SANTA CRUZ DO XINGU-MT
DESCRIPTION:
URL:https://www.thiagojhonathan.com.br/event/a-definir-49/
LOCATION:Praça Pública
CATEGORIES:Agenda Shows
END:VEVENT
BEGIN:VEVENT
DTSTART;TZID=America/Sao_Paulo:20230630T220000
DTEND;TZID=America/Sao_Paulo:20230630T233000
DTSTAMP:20260421T221327
CREATED:20230626T215346Z
LAST-MODIFIED:20230626T215942Z
UID:4450-1688162400-1688167800@www.thiagojhonathan.com.br
SUMMARY:LAGOA FORMOSA-MG
DESCRIPTION:
URL:https://www.thiagojhonathan.com.br/event/lagoa-formosa-mg-2/
LOCATION:Parque de Exposições
CATEGORIES:Agenda Shows
END:VEVENT
BEGIN:VEVENT
DTSTART;TZID=America/Sao_Paulo:20230701T220000
DTEND;TZID=America/Sao_Paulo:20230701T233000
DTSTAMP:20260421T221327
CREATED:20230601T154824Z
LAST-MODIFIED:20230601T154824Z
UID:4380-1688248800-1688254200@www.thiagojhonathan.com.br
SUMMARY:PESCADOR-MG
DESCRIPTION:
URL:https://www.thiagojhonathan.com.br/event/pescador-mg/
LOCATION:Praça Pública
CATEGORIES:Agenda Shows
END:VEVENT
BEGIN:VEVENT
DTSTART;TZID=America/Sao_Paulo:20230706T220000
DTEND;TZID=America/Sao_Paulo:20230706T233000
DTSTAMP:20260421T221327
CREATED:20230701T224036Z
LAST-MODIFIED:20230701T224036Z
UID:4452-1688680800-1688686200@www.thiagojhonathan.com.br
SUMMARY:VAZANTE-MG
DESCRIPTION:
URL:https://www.thiagojhonathan.com.br/event/vazante-mg-3/
LOCATION:Praça Pública
CATEGORIES:Agenda Shows
END:VEVENT
BEGIN:VEVENT
DTSTART;TZID=America/Sao_Paulo:20230707T220000
DTEND;TZID=America/Sao_Paulo:20230707T233000
DTSTAMP:20260421T221327
CREATED:20230601T160942Z
LAST-MODIFIED:20230601T160942Z
UID:4384-1688767200-1688772600@www.thiagojhonathan.com.br
SUMMARY:CAPELINHA-MG
DESCRIPTION:
URL:https://www.thiagojhonathan.com.br/event/capelinha-mg-2/
LOCATION:Praça Pública
CATEGORIES:Agenda Shows
END:VEVENT
BEGIN:VEVENT
DTSTART;TZID=America/Sao_Paulo:20230708T220000
DTEND;TZID=America/Sao_Paulo:20230708T233000
DTSTAMP:20260421T221327
CREATED:20230701T224219Z
LAST-MODIFIED:20230701T224219Z
UID:4454-1688853600-1688859000@www.thiagojhonathan.com.br
SUMMARY:ALVORADA DE MINAS-MG
DESCRIPTION:
URL:https://www.thiagojhonathan.com.br/event/alvorada-de-minas-mg/
LOCATION:Praça Pública
CATEGORIES:Agenda Shows
END:VEVENT
END:VCALENDAR